BEGIN:VCALENDAR
VERSION:2.0
PRODID:-//Shore Legal Access - ECPv6.15.20//NONSGML v1.0//EN
CALSCALE:GREGORIAN
METHOD:PUBLISH
X-WR-CALNAME:Shore Legal Access
X-ORIGINAL-URL:https://shorelegal.org
X-WR-CALDESC:Events for Shore Legal Access
REFRESH-INTERVAL;VALUE=DURATION:PT1H
X-Robots-Tag:noindex
X-PUBLISHED-TTL:PT1H
BEGIN:VTIMEZONE
TZID:America/New_York
BEGIN:DAYLIGHT
TZOFFSETFROM:-0500
TZOFFSETTO:-0400
TZNAME:EDT
DTSTART:20270314T070000
END:DAYLIGHT
BEGIN:STANDARD
TZOFFSETFROM:-0400
TZOFFSETTO:-0500
TZNAME:EST
DTSTART:20271107T060000
END:STANDARD
BEGIN:DAYLIGHT
TZOFFSETFROM:-0500
TZOFFSETTO:-0400
TZNAME:EDT
DTSTART:20280312T070000
END:DAYLIGHT
BEGIN:STANDARD
TZOFFSETFROM:-0400
TZOFFSETTO:-0500
TZNAME:EST
DTSTART:20281105T060000
END:STANDARD
BEGIN:DAYLIGHT
TZOFFSETFROM:-0500
TZOFFSETTO:-0400
TZNAME:EDT
DTSTART:20290311T070000
END:DAYLIGHT
BEGIN:STANDARD
TZOFFSETFROM:-0400
TZOFFSETTO:-0500
TZNAME:EST
DTSTART:20291104T060000
END:STANDARD
BEGIN:DAYLIGHT
TZOFFSETFROM:-0500
TZOFFSETTO:-0400
TZNAME:EDT
DTSTART:20300310T070000
END:DAYLIGHT
BEGIN:STANDARD
TZOFFSETFROM:-0400
TZOFFSETTO:-0500
TZNAME:EST
DTSTART:20301103T060000
END:STANDARD
END:VTIMEZONE
BEGIN:VEVENT
DTSTART;TZID=America/New_York:20280824T100000
DTEND;TZID=America/New_York:20280824T120000
DTSTAMP:20260423T060320
CREATED:20240821T232013Z
LAST-MODIFIED:20240821T232013Z
UID:10004369-1850724000-1850731200@shorelegal.org
SUMMARY:Talbot County Life & Estate Planning Clinic
DESCRIPTION:BY APPOINTMENT ONLY\nDo you need a will\, financial power of attorney\, or advance medical directive? Schedule your free consultation with our volunteer attorneys today by calling 410-690-8128. We’ll help you draft your life planning documents at no cost!
URL:https://shorelegal.org/event/talbot-county-life-estate-planning-clinic/2028-08-24/
LOCATION:Brookletts Place Senior Center\, 400 Brookletts Avenue\, Easton\, MD\, 21601\, United States
CATEGORIES:Life Planning Clinics
END:VEVENT
BEGIN:VEVENT
DTSTART;TZID=America/New_York:20280905T110000
DTEND;TZID=America/New_York:20280905T140000
DTSTAMP:20260423T060320
CREATED:20250429T134125Z
LAST-MODIFIED:20250429T161323Z
UID:10005076-1851764400-1851775200@shorelegal.org
SUMMARY:Lower Shore Life Planning Clinic - MAC Center
DESCRIPTION:BY APPOINTMENT ONLY:  Do you need a will\, financial power of attorney\, or advance medical directive? \nSchedule your free consultation with our volunteer attorneys today by calling 410-690-8128. We’ll help you draft your life planning documents at no cost!
URL:https://shorelegal.org/event/lower-shore-life-planning-clinic-mac-center/2028-09-05/
LOCATION:MAC Inc. Center\, 909 Progress Circle\, Salisbury\, MD\, 21804\, United States
CATEGORIES:Life Planning Clinics
END:VEVENT
BEGIN:VEVENT
DTSTART;TZID=America/New_York:20280907T100000
DTEND;TZID=America/New_York:20280907T130000
DTSTAMP:20260423T060320
CREATED:20240903T171949Z
LAST-MODIFIED:20240919T142605Z
UID:10004996-1851933600-1851944400@shorelegal.org
SUMMARY:Kent County Life & Estate Planning Clinic
DESCRIPTION:BY APPOINTMENT ONLY\nDo you need a will\, financial power of attorney\, or advance medical directive? Schedule your free consultation with our volunteer attorneys today by calling 410-690-8128. We’ll help you draft your life planning documents at no cost!
URL:https://shorelegal.org/event/kent-county-life-estate-planning-clinic-2/2028-09-07/
LOCATION:Kent County Public Library\, 408 High Street\, Chestertown\, 21620\, United States
CATEGORIES:Life Planning Clinics
END:VEVENT
BEGIN:VEVENT
DTSTART;TZID=America/New_York:20280914T100000
DTEND;TZID=America/New_York:20280914T130000
DTSTAMP:20260423T060320
CREATED:20240821T230457Z
LAST-MODIFIED:20240821T230457Z
UID:10004188-1852538400-1852549200@shorelegal.org
SUMMARY:Caroline County Life & Estate Planning Clinic
DESCRIPTION:BY APPOINTMENT ONLY\nDo you need a will\, financial power of attorney\, or advance medical directive? Call us at 410-690-8128 to make an appointment for a consultation with our attorneys\, who will draft your life planning documents for FREE!  
URL:https://shorelegal.org/event/caroline-county-life-estate-planning-clinic/2028-09-14/
LOCATION:Caroline County Public Library\, 100 Market Street\, Denton\, MD\, 21629\, United States
CATEGORIES:Life Planning Clinics
END:VEVENT
BEGIN:VEVENT
DTSTART;TZID=America/New_York:20280919T100000
DTEND;TZID=America/New_York:20280919T120000
DTSTAMP:20260423T060320
CREATED:20240821T231128Z
LAST-MODIFIED:20240821T231128Z
UID:10004248-1852970400-1852977600@shorelegal.org
SUMMARY:Queen Anne's County Life & Estate Planning Clinic
DESCRIPTION:BY APPOINTMENT ONLY\nDo you need a will\, financial power of attorney\, or advance medical directive? Schedule your free consultation with our volunteer attorneys today by calling 410-690-8128. We’ll help you draft your life planning documents at no cost!
URL:https://shorelegal.org/event/queen-annes-county-life-estate-planning-clinic/2028-09-19/
LOCATION:Kramer Senior Center\, 104 Powell Street\, Centreville\, MD\, 21617\, United States
CATEGORIES:Life Planning Clinics
END:VEVENT
BEGIN:VEVENT
DTSTART;TZID=America/New_York:20280927T100000
DTEND;TZID=America/New_York:20280927T130000
DTSTAMP:20260423T060320
CREATED:20240912T183007Z
LAST-MODIFIED:20240912T183435Z
UID:10004309-1853661600-1853672400@shorelegal.org
SUMMARY:Dorchester County Life & Estate Planning Clinic
DESCRIPTION:BY APPOINTMENT ONLY\nDo you need a will\, financial power of attorney\, or advance medical directive? Schedule your free consultation with our volunteer attorneys today by calling 410-690-8128. We’ll help you draft your life planning documents at no cost!
URL:https://shorelegal.org/event/dorchester-county-life-estate-planning-clinic-2/2028-09-27/
LOCATION:Dorchester County Public Library – Cambridge\, 303 Gay Street\, Cambridge\, 21613\, United States
CATEGORIES:Life Planning Clinics
END:VEVENT
BEGIN:VEVENT
DTSTART;TZID=America/New_York:20280928T100000
DTEND;TZID=America/New_York:20280928T120000
DTSTAMP:20260423T060320
CREATED:20240821T232013Z
LAST-MODIFIED:20240821T232013Z
UID:10004370-1853748000-1853755200@shorelegal.org
SUMMARY:Talbot County Life & Estate Planning Clinic
DESCRIPTION:BY APPOINTMENT ONLY\nDo you need a will\, financial power of attorney\, or advance medical directive? Schedule your free consultation with our volunteer attorneys today by calling 410-690-8128. We’ll help you draft your life planning documents at no cost!
URL:https://shorelegal.org/event/talbot-county-life-estate-planning-clinic/2028-09-28/
LOCATION:Brookletts Place Senior Center\, 400 Brookletts Avenue\, Easton\, MD\, 21601\, United States
CATEGORIES:Life Planning Clinics
END:VEVENT
BEGIN:VEVENT
DTSTART;TZID=America/New_York:20281003T110000
DTEND;TZID=America/New_York:20281003T140000
DTSTAMP:20260423T060320
CREATED:20250429T134125Z
LAST-MODIFIED:20250429T161323Z
UID:10005077-1854183600-1854194400@shorelegal.org
SUMMARY:Lower Shore Life Planning Clinic - MAC Center
DESCRIPTION:BY APPOINTMENT ONLY:  Do you need a will\, financial power of attorney\, or advance medical directive? \nSchedule your free consultation with our volunteer attorneys today by calling 410-690-8128. We’ll help you draft your life planning documents at no cost!
URL:https://shorelegal.org/event/lower-shore-life-planning-clinic-mac-center/2028-10-03/
LOCATION:MAC Inc. Center\, 909 Progress Circle\, Salisbury\, MD\, 21804\, United States
CATEGORIES:Life Planning Clinics
END:VEVENT
BEGIN:VEVENT
DTSTART;TZID=America/New_York:20281005T100000
DTEND;TZID=America/New_York:20281005T130000
DTSTAMP:20260423T060320
CREATED:20240903T171949Z
LAST-MODIFIED:20240919T142605Z
UID:10004997-1854352800-1854363600@shorelegal.org
SUMMARY:Kent County Life & Estate Planning Clinic
DESCRIPTION:BY APPOINTMENT ONLY\nDo you need a will\, financial power of attorney\, or advance medical directive? Schedule your free consultation with our volunteer attorneys today by calling 410-690-8128. We’ll help you draft your life planning documents at no cost!
URL:https://shorelegal.org/event/kent-county-life-estate-planning-clinic-2/2028-10-05/
LOCATION:Kent County Public Library\, 408 High Street\, Chestertown\, 21620\, United States
CATEGORIES:Life Planning Clinics
END:VEVENT
BEGIN:VEVENT
DTSTART;TZID=America/New_York:20281012T100000
DTEND;TZID=America/New_York:20281012T130000
DTSTAMP:20260423T060320
CREATED:20240821T230457Z
LAST-MODIFIED:20240821T230457Z
UID:10004189-1854957600-1854968400@shorelegal.org
SUMMARY:Caroline County Life & Estate Planning Clinic
DESCRIPTION:BY APPOINTMENT ONLY\nDo you need a will\, financial power of attorney\, or advance medical directive? Call us at 410-690-8128 to make an appointment for a consultation with our attorneys\, who will draft your life planning documents for FREE!  
URL:https://shorelegal.org/event/caroline-county-life-estate-planning-clinic/2028-10-12/
LOCATION:Caroline County Public Library\, 100 Market Street\, Denton\, MD\, 21629\, United States
CATEGORIES:Life Planning Clinics
END:VEVENT
BEGIN:VEVENT
DTSTART;TZID=America/New_York:20281017T100000
DTEND;TZID=America/New_York:20281017T120000
DTSTAMP:20260423T060320
CREATED:20240821T231128Z
LAST-MODIFIED:20240821T231128Z
UID:10004249-1855389600-1855396800@shorelegal.org
SUMMARY:Queen Anne's County Life & Estate Planning Clinic
DESCRIPTION:BY APPOINTMENT ONLY\nDo you need a will\, financial power of attorney\, or advance medical directive? Schedule your free consultation with our volunteer attorneys today by calling 410-690-8128. We’ll help you draft your life planning documents at no cost!
URL:https://shorelegal.org/event/queen-annes-county-life-estate-planning-clinic/2028-10-17/
LOCATION:Kramer Senior Center\, 104 Powell Street\, Centreville\, MD\, 21617\, United States
CATEGORIES:Life Planning Clinics
END:VEVENT
BEGIN:VEVENT
DTSTART;TZID=America/New_York:20281025T100000
DTEND;TZID=America/New_York:20281025T130000
DTSTAMP:20260423T060320
CREATED:20240912T183007Z
LAST-MODIFIED:20240912T183435Z
UID:10004310-1856080800-1856091600@shorelegal.org
SUMMARY:Dorchester County Life & Estate Planning Clinic
DESCRIPTION:BY APPOINTMENT ONLY\nDo you need a will\, financial power of attorney\, or advance medical directive? Schedule your free consultation with our volunteer attorneys today by calling 410-690-8128. We’ll help you draft your life planning documents at no cost!
URL:https://shorelegal.org/event/dorchester-county-life-estate-planning-clinic-2/2028-10-25/
LOCATION:Dorchester County Public Library – Cambridge\, 303 Gay Street\, Cambridge\, 21613\, United States
CATEGORIES:Life Planning Clinics
END:VEVENT
BEGIN:VEVENT
DTSTART;TZID=America/New_York:20281026T100000
DTEND;TZID=America/New_York:20281026T120000
DTSTAMP:20260423T060320
CREATED:20240821T232013Z
LAST-MODIFIED:20240821T232013Z
UID:10004371-1856167200-1856174400@shorelegal.org
SUMMARY:Talbot County Life & Estate Planning Clinic
DESCRIPTION:BY APPOINTMENT ONLY\nDo you need a will\, financial power of attorney\, or advance medical directive? Schedule your free consultation with our volunteer attorneys today by calling 410-690-8128. We’ll help you draft your life planning documents at no cost!
URL:https://shorelegal.org/event/talbot-county-life-estate-planning-clinic/2028-10-26/
LOCATION:Brookletts Place Senior Center\, 400 Brookletts Avenue\, Easton\, MD\, 21601\, United States
CATEGORIES:Life Planning Clinics
END:VEVENT
BEGIN:VEVENT
DTSTART;TZID=America/New_York:20281102T100000
DTEND;TZID=America/New_York:20281102T130000
DTSTAMP:20260423T060320
CREATED:20240903T171949Z
LAST-MODIFIED:20240919T142605Z
UID:10004998-1856772000-1856782800@shorelegal.org
SUMMARY:Kent County Life & Estate Planning Clinic
DESCRIPTION:BY APPOINTMENT ONLY\nDo you need a will\, financial power of attorney\, or advance medical directive? Schedule your free consultation with our volunteer attorneys today by calling 410-690-8128. We’ll help you draft your life planning documents at no cost!
URL:https://shorelegal.org/event/kent-county-life-estate-planning-clinic-2/2028-11-02/
LOCATION:Kent County Public Library\, 408 High Street\, Chestertown\, 21620\, United States
CATEGORIES:Life Planning Clinics
END:VEVENT
BEGIN:VEVENT
DTSTART;TZID=America/New_York:20281107T110000
DTEND;TZID=America/New_York:20281107T140000
DTSTAMP:20260423T060320
CREATED:20250429T134125Z
LAST-MODIFIED:20250429T161323Z
UID:10005078-1857207600-1857218400@shorelegal.org
SUMMARY:Lower Shore Life Planning Clinic - MAC Center
DESCRIPTION:BY APPOINTMENT ONLY:  Do you need a will\, financial power of attorney\, or advance medical directive? \nSchedule your free consultation with our volunteer attorneys today by calling 410-690-8128. We’ll help you draft your life planning documents at no cost!
URL:https://shorelegal.org/event/lower-shore-life-planning-clinic-mac-center/2028-11-07/
LOCATION:MAC Inc. Center\, 909 Progress Circle\, Salisbury\, MD\, 21804\, United States
CATEGORIES:Life Planning Clinics
END:VEVENT
BEGIN:VEVENT
DTSTART;TZID=America/New_York:20281109T100000
DTEND;TZID=America/New_York:20281109T130000
DTSTAMP:20260423T060320
CREATED:20240821T230457Z
LAST-MODIFIED:20240821T230457Z
UID:10004190-1857376800-1857387600@shorelegal.org
SUMMARY:Caroline County Life & Estate Planning Clinic
DESCRIPTION:BY APPOINTMENT ONLY\nDo you need a will\, financial power of attorney\, or advance medical directive? Call us at 410-690-8128 to make an appointment for a consultation with our attorneys\, who will draft your life planning documents for FREE!  
URL:https://shorelegal.org/event/caroline-county-life-estate-planning-clinic/2028-11-09/
LOCATION:Caroline County Public Library\, 100 Market Street\, Denton\, MD\, 21629\, United States
CATEGORIES:Life Planning Clinics
END:VEVENT
BEGIN:VEVENT
DTSTART;TZID=America/New_York:20281121T100000
DTEND;TZID=America/New_York:20281121T120000
DTSTAMP:20260423T060320
CREATED:20240821T231128Z
LAST-MODIFIED:20240821T231128Z
UID:10004250-1858413600-1858420800@shorelegal.org
SUMMARY:Queen Anne's County Life & Estate Planning Clinic
DESCRIPTION:BY APPOINTMENT ONLY\nDo you need a will\, financial power of attorney\, or advance medical directive? Schedule your free consultation with our volunteer attorneys today by calling 410-690-8128. We’ll help you draft your life planning documents at no cost!
URL:https://shorelegal.org/event/queen-annes-county-life-estate-planning-clinic/2028-11-21/
LOCATION:Kramer Senior Center\, 104 Powell Street\, Centreville\, MD\, 21617\, United States
CATEGORIES:Life Planning Clinics
END:VEVENT
BEGIN:VEVENT
DTSTART;TZID=America/New_York:20281122T100000
DTEND;TZID=America/New_York:20281122T130000
DTSTAMP:20260423T060320
CREATED:20240912T183007Z
LAST-MODIFIED:20240912T183435Z
UID:10004311-1858500000-1858510800@shorelegal.org
SUMMARY:Dorchester County Life & Estate Planning Clinic
DESCRIPTION:BY APPOINTMENT ONLY\nDo you need a will\, financial power of attorney\, or advance medical directive? Schedule your free consultation with our volunteer attorneys today by calling 410-690-8128. We’ll help you draft your life planning documents at no cost!
URL:https://shorelegal.org/event/dorchester-county-life-estate-planning-clinic-2/2028-11-22/
LOCATION:Dorchester County Public Library – Cambridge\, 303 Gay Street\, Cambridge\, 21613\, United States
CATEGORIES:Life Planning Clinics
END:VEVENT
BEGIN:VEVENT
DTSTART;TZID=America/New_York:20281123T100000
DTEND;TZID=America/New_York:20281123T120000
DTSTAMP:20260423T060320
CREATED:20240821T232013Z
LAST-MODIFIED:20240821T232013Z
UID:10004372-1858586400-1858593600@shorelegal.org
SUMMARY:Talbot County Life & Estate Planning Clinic
DESCRIPTION:BY APPOINTMENT ONLY\nDo you need a will\, financial power of attorney\, or advance medical directive? Schedule your free consultation with our volunteer attorneys today by calling 410-690-8128. We’ll help you draft your life planning documents at no cost!
URL:https://shorelegal.org/event/talbot-county-life-estate-planning-clinic/2028-11-23/
LOCATION:Brookletts Place Senior Center\, 400 Brookletts Avenue\, Easton\, MD\, 21601\, United States
CATEGORIES:Life Planning Clinics
END:VEVENT
BEGIN:VEVENT
DTSTART;TZID=America/New_York:20281205T110000
DTEND;TZID=America/New_York:20281205T140000
DTSTAMP:20260423T060320
CREATED:20250429T134125Z
LAST-MODIFIED:20250429T161323Z
UID:10005079-1859626800-1859637600@shorelegal.org
SUMMARY:Lower Shore Life Planning Clinic - MAC Center
DESCRIPTION:BY APPOINTMENT ONLY:  Do you need a will\, financial power of attorney\, or advance medical directive? \nSchedule your free consultation with our volunteer attorneys today by calling 410-690-8128. We’ll help you draft your life planning documents at no cost!
URL:https://shorelegal.org/event/lower-shore-life-planning-clinic-mac-center/2028-12-05/
LOCATION:MAC Inc. Center\, 909 Progress Circle\, Salisbury\, MD\, 21804\, United States
CATEGORIES:Life Planning Clinics
END:VEVENT
BEGIN:VEVENT
DTSTART;TZID=America/New_York:20281207T100000
DTEND;TZID=America/New_York:20281207T130000
DTSTAMP:20260423T060320
CREATED:20240903T171949Z
LAST-MODIFIED:20240919T142605Z
UID:10004999-1859796000-1859806800@shorelegal.org
SUMMARY:Kent County Life & Estate Planning Clinic
DESCRIPTION:BY APPOINTMENT ONLY\nDo you need a will\, financial power of attorney\, or advance medical directive? Schedule your free consultation with our volunteer attorneys today by calling 410-690-8128. We’ll help you draft your life planning documents at no cost!
URL:https://shorelegal.org/event/kent-county-life-estate-planning-clinic-2/2028-12-07/
LOCATION:Kent County Public Library\, 408 High Street\, Chestertown\, 21620\, United States
CATEGORIES:Life Planning Clinics
END:VEVENT
BEGIN:VEVENT
DTSTART;TZID=America/New_York:20281214T100000
DTEND;TZID=America/New_York:20281214T130000
DTSTAMP:20260423T060320
CREATED:20240821T230457Z
LAST-MODIFIED:20240821T230457Z
UID:10004191-1860400800-1860411600@shorelegal.org
SUMMARY:Caroline County Life & Estate Planning Clinic
DESCRIPTION:BY APPOINTMENT ONLY\nDo you need a will\, financial power of attorney\, or advance medical directive? Call us at 410-690-8128 to make an appointment for a consultation with our attorneys\, who will draft your life planning documents for FREE!  
URL:https://shorelegal.org/event/caroline-county-life-estate-planning-clinic/2028-12-14/
LOCATION:Caroline County Public Library\, 100 Market Street\, Denton\, MD\, 21629\, United States
CATEGORIES:Life Planning Clinics
END:VEVENT
BEGIN:VEVENT
DTSTART;TZID=America/New_York:20281219T100000
DTEND;TZID=America/New_York:20281219T120000
DTSTAMP:20260423T060320
CREATED:20240821T231128Z
LAST-MODIFIED:20240821T231128Z
UID:10004251-1860832800-1860840000@shorelegal.org
SUMMARY:Queen Anne's County Life & Estate Planning Clinic
DESCRIPTION:BY APPOINTMENT ONLY\nDo you need a will\, financial power of attorney\, or advance medical directive? Schedule your free consultation with our volunteer attorneys today by calling 410-690-8128. We’ll help you draft your life planning documents at no cost!
URL:https://shorelegal.org/event/queen-annes-county-life-estate-planning-clinic/2028-12-19/
LOCATION:Kramer Senior Center\, 104 Powell Street\, Centreville\, MD\, 21617\, United States
CATEGORIES:Life Planning Clinics
END:VEVENT
BEGIN:VEVENT
DTSTART;TZID=America/New_York:20281227T100000
DTEND;TZID=America/New_York:20281227T130000
DTSTAMP:20260423T060320
CREATED:20240912T183007Z
LAST-MODIFIED:20240912T183435Z
UID:10004312-1861524000-1861534800@shorelegal.org
SUMMARY:Dorchester County Life & Estate Planning Clinic
DESCRIPTION:BY APPOINTMENT ONLY\nDo you need a will\, financial power of attorney\, or advance medical directive? Schedule your free consultation with our volunteer attorneys today by calling 410-690-8128. We’ll help you draft your life planning documents at no cost!
URL:https://shorelegal.org/event/dorchester-county-life-estate-planning-clinic-2/2028-12-27/
LOCATION:Dorchester County Public Library – Cambridge\, 303 Gay Street\, Cambridge\, 21613\, United States
CATEGORIES:Life Planning Clinics
END:VEVENT
BEGIN:VEVENT
DTSTART;TZID=America/New_York:20281228T100000
DTEND;TZID=America/New_York:20281228T120000
DTSTAMP:20260423T060320
CREATED:20240821T232013Z
LAST-MODIFIED:20240821T232013Z
UID:10004373-1861610400-1861617600@shorelegal.org
SUMMARY:Talbot County Life & Estate Planning Clinic
DESCRIPTION:BY APPOINTMENT ONLY\nDo you need a will\, financial power of attorney\, or advance medical directive? Schedule your free consultation with our volunteer attorneys today by calling 410-690-8128. We’ll help you draft your life planning documents at no cost!
URL:https://shorelegal.org/event/talbot-county-life-estate-planning-clinic/2028-12-28/
LOCATION:Brookletts Place Senior Center\, 400 Brookletts Avenue\, Easton\, MD\, 21601\, United States
CATEGORIES:Life Planning Clinics
END:VEVENT
BEGIN:VEVENT
DTSTART;TZID=America/New_York:20290102T110000
DTEND;TZID=America/New_York:20290102T140000
DTSTAMP:20260423T060320
CREATED:20250429T134125Z
LAST-MODIFIED:20250429T161323Z
UID:10005080-1862046000-1862056800@shorelegal.org
SUMMARY:Lower Shore Life Planning Clinic - MAC Center
DESCRIPTION:BY APPOINTMENT ONLY:  Do you need a will\, financial power of attorney\, or advance medical directive? \nSchedule your free consultation with our volunteer attorneys today by calling 410-690-8128. We’ll help you draft your life planning documents at no cost!
URL:https://shorelegal.org/event/lower-shore-life-planning-clinic-mac-center/2029-01-02/
LOCATION:MAC Inc. Center\, 909 Progress Circle\, Salisbury\, MD\, 21804\, United States
CATEGORIES:Life Planning Clinics
END:VEVENT
BEGIN:VEVENT
DTSTART;TZID=America/New_York:20290104T100000
DTEND;TZID=America/New_York:20290104T130000
DTSTAMP:20260423T060320
CREATED:20240903T171949Z
LAST-MODIFIED:20240919T142605Z
UID:10005000-1862215200-1862226000@shorelegal.org
SUMMARY:Kent County Life & Estate Planning Clinic
DESCRIPTION:BY APPOINTMENT ONLY\nDo you need a will\, financial power of attorney\, or advance medical directive? Schedule your free consultation with our volunteer attorneys today by calling 410-690-8128. We’ll help you draft your life planning documents at no cost!
URL:https://shorelegal.org/event/kent-county-life-estate-planning-clinic-2/2029-01-04/
LOCATION:Kent County Public Library\, 408 High Street\, Chestertown\, 21620\, United States
CATEGORIES:Life Planning Clinics
END:VEVENT
BEGIN:VEVENT
DTSTART;TZID=America/New_York:20290111T100000
DTEND;TZID=America/New_York:20290111T130000
DTSTAMP:20260423T060320
CREATED:20240821T230457Z
LAST-MODIFIED:20240821T230457Z
UID:10004192-1862820000-1862830800@shorelegal.org
SUMMARY:Caroline County Life & Estate Planning Clinic
DESCRIPTION:BY APPOINTMENT ONLY\nDo you need a will\, financial power of attorney\, or advance medical directive? Call us at 410-690-8128 to make an appointment for a consultation with our attorneys\, who will draft your life planning documents for FREE!  
URL:https://shorelegal.org/event/caroline-county-life-estate-planning-clinic/2029-01-11/
LOCATION:Caroline County Public Library\, 100 Market Street\, Denton\, MD\, 21629\, United States
CATEGORIES:Life Planning Clinics
END:VEVENT
BEGIN:VEVENT
DTSTART;TZID=America/New_York:20290116T100000
DTEND;TZID=America/New_York:20290116T120000
DTSTAMP:20260423T060320
CREATED:20240821T231128Z
LAST-MODIFIED:20240821T231128Z
UID:10004252-1863252000-1863259200@shorelegal.org
SUMMARY:Queen Anne's County Life & Estate Planning Clinic
DESCRIPTION:BY APPOINTMENT ONLY\nDo you need a will\, financial power of attorney\, or advance medical directive? Schedule your free consultation with our volunteer attorneys today by calling 410-690-8128. We’ll help you draft your life planning documents at no cost!
URL:https://shorelegal.org/event/queen-annes-county-life-estate-planning-clinic/2029-01-16/
LOCATION:Kramer Senior Center\, 104 Powell Street\, Centreville\, MD\, 21617\, United States
CATEGORIES:Life Planning Clinics
END:VEVENT
BEGIN:VEVENT
DTSTART;TZID=America/New_York:20290124T100000
DTEND;TZID=America/New_York:20290124T130000
DTSTAMP:20260423T060320
CREATED:20240912T183007Z
LAST-MODIFIED:20240912T183435Z
UID:10004313-1863943200-1863954000@shorelegal.org
SUMMARY:Dorchester County Life & Estate Planning Clinic
DESCRIPTION:BY APPOINTMENT ONLY\nDo you need a will\, financial power of attorney\, or advance medical directive? Schedule your free consultation with our volunteer attorneys today by calling 410-690-8128. We’ll help you draft your life planning documents at no cost!
URL:https://shorelegal.org/event/dorchester-county-life-estate-planning-clinic-2/2029-01-24/
LOCATION:Dorchester County Public Library – Cambridge\, 303 Gay Street\, Cambridge\, 21613\, United States
CATEGORIES:Life Planning Clinics
END:VEVENT
END:VCALENDAR