BEGIN:VCALENDAR
VERSION:2.0
PRODID:-//Shore Legal Access - ECPv6.15.20//NONSGML v1.0//EN
CALSCALE:GREGORIAN
METHOD:PUBLISH
X-ORIGINAL-URL:https://shorelegal.org
X-WR-CALDESC:Events for Shore Legal Access
REFRESH-INTERVAL;VALUE=DURATION:PT1H
X-Robots-Tag:noindex
X-PUBLISHED-TTL:PT1H
BEGIN:VTIMEZONE
TZID:America/New_York
BEGIN:DAYLIGHT
TZOFFSETFROM:-0500
TZOFFSETTO:-0400
TZNAME:EDT
DTSTART:20280312T070000
END:DAYLIGHT
BEGIN:STANDARD
TZOFFSETFROM:-0400
TZOFFSETTO:-0500
TZNAME:EST
DTSTART:20281105T060000
END:STANDARD
BEGIN:DAYLIGHT
TZOFFSETFROM:-0500
TZOFFSETTO:-0400
TZNAME:EDT
DTSTART:20290311T070000
END:DAYLIGHT
BEGIN:STANDARD
TZOFFSETFROM:-0400
TZOFFSETTO:-0500
TZNAME:EST
DTSTART:20291104T060000
END:STANDARD
BEGIN:DAYLIGHT
TZOFFSETFROM:-0500
TZOFFSETTO:-0400
TZNAME:EDT
DTSTART:20300310T070000
END:DAYLIGHT
BEGIN:STANDARD
TZOFFSETFROM:-0400
TZOFFSETTO:-0500
TZNAME:EST
DTSTART:20301103T060000
END:STANDARD
BEGIN:DAYLIGHT
TZOFFSETFROM:-0500
TZOFFSETTO:-0400
TZNAME:EDT
DTSTART:20310309T070000
END:DAYLIGHT
BEGIN:STANDARD
TZOFFSETFROM:-0400
TZOFFSETTO:-0500
TZNAME:EST
DTSTART:20311102T060000
END:STANDARD
END:VTIMEZONE
BEGIN:VEVENT
DTSTART;TZID=America/New_York:20290501T110000
DTEND;TZID=America/New_York:20290501T140000
DTSTAMP:20260423T150947
CREATED:20250429T134125Z
LAST-MODIFIED:20250429T161323Z
UID:10005084-1872327600-1872338400@shorelegal.org
SUMMARY:Lower Shore Life Planning Clinic - MAC Center
DESCRIPTION:BY APPOINTMENT ONLY:  Do you need a will\, financial power of attorney\, or advance medical directive? \nSchedule your free consultation with our volunteer attorneys today by calling 410-690-8128. We’ll help you draft your life planning documents at no cost!
URL:https://shorelegal.org/event/lower-shore-life-planning-clinic-mac-center/2029-05-01/
LOCATION:MAC Inc. Center\, 909 Progress Circle\, Salisbury\, MD\, 21804\, United States
CATEGORIES:Life Planning Clinics
END:VEVENT
BEGIN:VEVENT
DTSTART;TZID=America/New_York:20290503T100000
DTEND;TZID=America/New_York:20290503T130000
DTSTAMP:20260423T150947
CREATED:20240903T171949Z
LAST-MODIFIED:20240919T142605Z
UID:10005004-1872496800-1872507600@shorelegal.org
SUMMARY:Kent County Life & Estate Planning Clinic
DESCRIPTION:BY APPOINTMENT ONLY\nDo you need a will\, financial power of attorney\, or advance medical directive? Schedule your free consultation with our volunteer attorneys today by calling 410-690-8128. We’ll help you draft your life planning documents at no cost!
URL:https://shorelegal.org/event/kent-county-life-estate-planning-clinic-2/2029-05-03/
LOCATION:Kent County Public Library\, 408 High Street\, Chestertown\, 21620\, United States
CATEGORIES:Life Planning Clinics
END:VEVENT
BEGIN:VEVENT
DTSTART;TZID=America/New_York:20290510T100000
DTEND;TZID=America/New_York:20290510T130000
DTSTAMP:20260423T150947
CREATED:20240821T230457Z
LAST-MODIFIED:20240821T230457Z
UID:10004196-1873101600-1873112400@shorelegal.org
SUMMARY:Caroline County Life & Estate Planning Clinic
DESCRIPTION:BY APPOINTMENT ONLY\nDo you need a will\, financial power of attorney\, or advance medical directive? Call us at 410-690-8128 to make an appointment for a consultation with our attorneys\, who will draft your life planning documents for FREE!  
URL:https://shorelegal.org/event/caroline-county-life-estate-planning-clinic/2029-05-10/
LOCATION:Caroline County Public Library\, 100 Market Street\, Denton\, MD\, 21629\, United States
CATEGORIES:Life Planning Clinics
END:VEVENT
BEGIN:VEVENT
DTSTART;TZID=America/New_York:20290515T100000
DTEND;TZID=America/New_York:20290515T120000
DTSTAMP:20260423T150947
CREATED:20240821T231128Z
LAST-MODIFIED:20240821T231128Z
UID:10004256-1873533600-1873540800@shorelegal.org
SUMMARY:Queen Anne's County Life & Estate Planning Clinic
DESCRIPTION:BY APPOINTMENT ONLY\nDo you need a will\, financial power of attorney\, or advance medical directive? Schedule your free consultation with our volunteer attorneys today by calling 410-690-8128. We’ll help you draft your life planning documents at no cost!
URL:https://shorelegal.org/event/queen-annes-county-life-estate-planning-clinic/2029-05-15/
LOCATION:Kramer Senior Center\, 104 Powell Street\, Centreville\, MD\, 21617\, United States
CATEGORIES:Life Planning Clinics
END:VEVENT
BEGIN:VEVENT
DTSTART;TZID=America/New_York:20290523T100000
DTEND;TZID=America/New_York:20290523T130000
DTSTAMP:20260423T150947
CREATED:20240912T183007Z
LAST-MODIFIED:20240912T183435Z
UID:10004317-1874224800-1874235600@shorelegal.org
SUMMARY:Dorchester County Life & Estate Planning Clinic
DESCRIPTION:BY APPOINTMENT ONLY\nDo you need a will\, financial power of attorney\, or advance medical directive? Schedule your free consultation with our volunteer attorneys today by calling 410-690-8128. We’ll help you draft your life planning documents at no cost!
URL:https://shorelegal.org/event/dorchester-county-life-estate-planning-clinic-2/2029-05-23/
LOCATION:Dorchester County Public Library – Cambridge\, 303 Gay Street\, Cambridge\, 21613\, United States
CATEGORIES:Life Planning Clinics
END:VEVENT
BEGIN:VEVENT
DTSTART;TZID=America/New_York:20290524T100000
DTEND;TZID=America/New_York:20290524T120000
DTSTAMP:20260423T150947
CREATED:20240821T232013Z
LAST-MODIFIED:20240821T232013Z
UID:10004378-1874311200-1874318400@shorelegal.org
SUMMARY:Talbot County Life & Estate Planning Clinic
DESCRIPTION:BY APPOINTMENT ONLY\nDo you need a will\, financial power of attorney\, or advance medical directive? Schedule your free consultation with our volunteer attorneys today by calling 410-690-8128. We’ll help you draft your life planning documents at no cost!
URL:https://shorelegal.org/event/talbot-county-life-estate-planning-clinic/2029-05-24/
LOCATION:Brookletts Place Senior Center\, 400 Brookletts Avenue\, Easton\, MD\, 21601\, United States
CATEGORIES:Life Planning Clinics
END:VEVENT
BEGIN:VEVENT
DTSTART;TZID=America/New_York:20290605T110000
DTEND;TZID=America/New_York:20290605T140000
DTSTAMP:20260423T150947
CREATED:20250429T134125Z
LAST-MODIFIED:20250429T161323Z
UID:10005085-1875351600-1875362400@shorelegal.org
SUMMARY:Lower Shore Life Planning Clinic - MAC Center
DESCRIPTION:BY APPOINTMENT ONLY:  Do you need a will\, financial power of attorney\, or advance medical directive? \nSchedule your free consultation with our volunteer attorneys today by calling 410-690-8128. We’ll help you draft your life planning documents at no cost!
URL:https://shorelegal.org/event/lower-shore-life-planning-clinic-mac-center/2029-06-05/
LOCATION:MAC Inc. Center\, 909 Progress Circle\, Salisbury\, MD\, 21804\, United States
CATEGORIES:Life Planning Clinics
END:VEVENT
BEGIN:VEVENT
DTSTART;TZID=America/New_York:20290607T100000
DTEND;TZID=America/New_York:20290607T130000
DTSTAMP:20260423T150947
CREATED:20240903T171949Z
LAST-MODIFIED:20240919T142605Z
UID:10005005-1875520800-1875531600@shorelegal.org
SUMMARY:Kent County Life & Estate Planning Clinic
DESCRIPTION:BY APPOINTMENT ONLY\nDo you need a will\, financial power of attorney\, or advance medical directive? Schedule your free consultation with our volunteer attorneys today by calling 410-690-8128. We’ll help you draft your life planning documents at no cost!
URL:https://shorelegal.org/event/kent-county-life-estate-planning-clinic-2/2029-06-07/
LOCATION:Kent County Public Library\, 408 High Street\, Chestertown\, 21620\, United States
CATEGORIES:Life Planning Clinics
END:VEVENT
BEGIN:VEVENT
DTSTART;TZID=America/New_York:20290614T100000
DTEND;TZID=America/New_York:20290614T130000
DTSTAMP:20260423T150947
CREATED:20240821T230457Z
LAST-MODIFIED:20240821T230457Z
UID:10004197-1876125600-1876136400@shorelegal.org
SUMMARY:Caroline County Life & Estate Planning Clinic
DESCRIPTION:BY APPOINTMENT ONLY\nDo you need a will\, financial power of attorney\, or advance medical directive? Call us at 410-690-8128 to make an appointment for a consultation with our attorneys\, who will draft your life planning documents for FREE!  
URL:https://shorelegal.org/event/caroline-county-life-estate-planning-clinic/2029-06-14/
LOCATION:Caroline County Public Library\, 100 Market Street\, Denton\, MD\, 21629\, United States
CATEGORIES:Life Planning Clinics
END:VEVENT
BEGIN:VEVENT
DTSTART;TZID=America/New_York:20290619T100000
DTEND;TZID=America/New_York:20290619T120000
DTSTAMP:20260423T150947
CREATED:20240821T231128Z
LAST-MODIFIED:20240821T231128Z
UID:10004257-1876557600-1876564800@shorelegal.org
SUMMARY:Queen Anne's County Life & Estate Planning Clinic
DESCRIPTION:BY APPOINTMENT ONLY\nDo you need a will\, financial power of attorney\, or advance medical directive? Schedule your free consultation with our volunteer attorneys today by calling 410-690-8128. We’ll help you draft your life planning documents at no cost!
URL:https://shorelegal.org/event/queen-annes-county-life-estate-planning-clinic/2029-06-19/
LOCATION:Kramer Senior Center\, 104 Powell Street\, Centreville\, MD\, 21617\, United States
CATEGORIES:Life Planning Clinics
END:VEVENT
BEGIN:VEVENT
DTSTART;TZID=America/New_York:20290627T100000
DTEND;TZID=America/New_York:20290627T130000
DTSTAMP:20260423T150947
CREATED:20240912T183007Z
LAST-MODIFIED:20240912T183435Z
UID:10004318-1877248800-1877259600@shorelegal.org
SUMMARY:Dorchester County Life & Estate Planning Clinic
DESCRIPTION:BY APPOINTMENT ONLY\nDo you need a will\, financial power of attorney\, or advance medical directive? Schedule your free consultation with our volunteer attorneys today by calling 410-690-8128. We’ll help you draft your life planning documents at no cost!
URL:https://shorelegal.org/event/dorchester-county-life-estate-planning-clinic-2/2029-06-27/
LOCATION:Dorchester County Public Library – Cambridge\, 303 Gay Street\, Cambridge\, 21613\, United States
CATEGORIES:Life Planning Clinics
END:VEVENT
BEGIN:VEVENT
DTSTART;TZID=America/New_York:20290628T100000
DTEND;TZID=America/New_York:20290628T120000
DTSTAMP:20260423T150947
CREATED:20240821T232013Z
LAST-MODIFIED:20240821T232013Z
UID:10004379-1877335200-1877342400@shorelegal.org
SUMMARY:Talbot County Life & Estate Planning Clinic
DESCRIPTION:BY APPOINTMENT ONLY\nDo you need a will\, financial power of attorney\, or advance medical directive? Schedule your free consultation with our volunteer attorneys today by calling 410-690-8128. We’ll help you draft your life planning documents at no cost!
URL:https://shorelegal.org/event/talbot-county-life-estate-planning-clinic/2029-06-28/
LOCATION:Brookletts Place Senior Center\, 400 Brookletts Avenue\, Easton\, MD\, 21601\, United States
CATEGORIES:Life Planning Clinics
END:VEVENT
BEGIN:VEVENT
DTSTART;TZID=America/New_York:20290703T110000
DTEND;TZID=America/New_York:20290703T140000
DTSTAMP:20260423T150947
CREATED:20250429T134125Z
LAST-MODIFIED:20250429T161323Z
UID:10005086-1877770800-1877781600@shorelegal.org
SUMMARY:Lower Shore Life Planning Clinic - MAC Center
DESCRIPTION:BY APPOINTMENT ONLY:  Do you need a will\, financial power of attorney\, or advance medical directive? \nSchedule your free consultation with our volunteer attorneys today by calling 410-690-8128. We’ll help you draft your life planning documents at no cost!
URL:https://shorelegal.org/event/lower-shore-life-planning-clinic-mac-center/2029-07-03/
LOCATION:MAC Inc. Center\, 909 Progress Circle\, Salisbury\, MD\, 21804\, United States
CATEGORIES:Life Planning Clinics
END:VEVENT
BEGIN:VEVENT
DTSTART;TZID=America/New_York:20290705T100000
DTEND;TZID=America/New_York:20290705T130000
DTSTAMP:20260423T150947
CREATED:20240903T171949Z
LAST-MODIFIED:20240919T142605Z
UID:10005006-1877940000-1877950800@shorelegal.org
SUMMARY:Kent County Life & Estate Planning Clinic
DESCRIPTION:BY APPOINTMENT ONLY\nDo you need a will\, financial power of attorney\, or advance medical directive? Schedule your free consultation with our volunteer attorneys today by calling 410-690-8128. We’ll help you draft your life planning documents at no cost!
URL:https://shorelegal.org/event/kent-county-life-estate-planning-clinic-2/2029-07-05/
LOCATION:Kent County Public Library\, 408 High Street\, Chestertown\, 21620\, United States
CATEGORIES:Life Planning Clinics
END:VEVENT
BEGIN:VEVENT
DTSTART;TZID=America/New_York:20290712T100000
DTEND;TZID=America/New_York:20290712T130000
DTSTAMP:20260423T150947
CREATED:20240821T230457Z
LAST-MODIFIED:20240821T230457Z
UID:10004198-1878544800-1878555600@shorelegal.org
SUMMARY:Caroline County Life & Estate Planning Clinic
DESCRIPTION:BY APPOINTMENT ONLY\nDo you need a will\, financial power of attorney\, or advance medical directive? Call us at 410-690-8128 to make an appointment for a consultation with our attorneys\, who will draft your life planning documents for FREE!  
URL:https://shorelegal.org/event/caroline-county-life-estate-planning-clinic/2029-07-12/
LOCATION:Caroline County Public Library\, 100 Market Street\, Denton\, MD\, 21629\, United States
CATEGORIES:Life Planning Clinics
END:VEVENT
BEGIN:VEVENT
DTSTART;TZID=America/New_York:20290717T100000
DTEND;TZID=America/New_York:20290717T120000
DTSTAMP:20260423T150947
CREATED:20240821T231128Z
LAST-MODIFIED:20240821T231128Z
UID:10004258-1878976800-1878984000@shorelegal.org
SUMMARY:Queen Anne's County Life & Estate Planning Clinic
DESCRIPTION:BY APPOINTMENT ONLY\nDo you need a will\, financial power of attorney\, or advance medical directive? Schedule your free consultation with our volunteer attorneys today by calling 410-690-8128. We’ll help you draft your life planning documents at no cost!
URL:https://shorelegal.org/event/queen-annes-county-life-estate-planning-clinic/2029-07-17/
LOCATION:Kramer Senior Center\, 104 Powell Street\, Centreville\, MD\, 21617\, United States
CATEGORIES:Life Planning Clinics
END:VEVENT
BEGIN:VEVENT
DTSTART;TZID=America/New_York:20290725T100000
DTEND;TZID=America/New_York:20290725T130000
DTSTAMP:20260423T150947
CREATED:20240912T183007Z
LAST-MODIFIED:20240912T183435Z
UID:10004319-1879668000-1879678800@shorelegal.org
SUMMARY:Dorchester County Life & Estate Planning Clinic
DESCRIPTION:BY APPOINTMENT ONLY\nDo you need a will\, financial power of attorney\, or advance medical directive? Schedule your free consultation with our volunteer attorneys today by calling 410-690-8128. We’ll help you draft your life planning documents at no cost!
URL:https://shorelegal.org/event/dorchester-county-life-estate-planning-clinic-2/2029-07-25/
LOCATION:Dorchester County Public Library – Cambridge\, 303 Gay Street\, Cambridge\, 21613\, United States
CATEGORIES:Life Planning Clinics
END:VEVENT
BEGIN:VEVENT
DTSTART;TZID=America/New_York:20290726T100000
DTEND;TZID=America/New_York:20290726T120000
DTSTAMP:20260423T150947
CREATED:20240821T232013Z
LAST-MODIFIED:20240821T232013Z
UID:10004380-1879754400-1879761600@shorelegal.org
SUMMARY:Talbot County Life & Estate Planning Clinic
DESCRIPTION:BY APPOINTMENT ONLY\nDo you need a will\, financial power of attorney\, or advance medical directive? Schedule your free consultation with our volunteer attorneys today by calling 410-690-8128. We’ll help you draft your life planning documents at no cost!
URL:https://shorelegal.org/event/talbot-county-life-estate-planning-clinic/2029-07-26/
LOCATION:Brookletts Place Senior Center\, 400 Brookletts Avenue\, Easton\, MD\, 21601\, United States
CATEGORIES:Life Planning Clinics
END:VEVENT
BEGIN:VEVENT
DTSTART;TZID=America/New_York:20290802T100000
DTEND;TZID=America/New_York:20290802T130000
DTSTAMP:20260423T150947
CREATED:20240903T171949Z
LAST-MODIFIED:20240919T142605Z
UID:10005007-1880359200-1880370000@shorelegal.org
SUMMARY:Kent County Life & Estate Planning Clinic
DESCRIPTION:BY APPOINTMENT ONLY\nDo you need a will\, financial power of attorney\, or advance medical directive? Schedule your free consultation with our volunteer attorneys today by calling 410-690-8128. We’ll help you draft your life planning documents at no cost!
URL:https://shorelegal.org/event/kent-county-life-estate-planning-clinic-2/2029-08-02/
LOCATION:Kent County Public Library\, 408 High Street\, Chestertown\, 21620\, United States
CATEGORIES:Life Planning Clinics
END:VEVENT
BEGIN:VEVENT
DTSTART;TZID=America/New_York:20290807T110000
DTEND;TZID=America/New_York:20290807T140000
DTSTAMP:20260423T150947
CREATED:20250429T134125Z
LAST-MODIFIED:20250429T161323Z
UID:10005087-1880794800-1880805600@shorelegal.org
SUMMARY:Lower Shore Life Planning Clinic - MAC Center
DESCRIPTION:BY APPOINTMENT ONLY:  Do you need a will\, financial power of attorney\, or advance medical directive? \nSchedule your free consultation with our volunteer attorneys today by calling 410-690-8128. We’ll help you draft your life planning documents at no cost!
URL:https://shorelegal.org/event/lower-shore-life-planning-clinic-mac-center/2029-08-07/
LOCATION:MAC Inc. Center\, 909 Progress Circle\, Salisbury\, MD\, 21804\, United States
CATEGORIES:Life Planning Clinics
END:VEVENT
BEGIN:VEVENT
DTSTART;TZID=America/New_York:20290809T100000
DTEND;TZID=America/New_York:20290809T130000
DTSTAMP:20260423T150947
CREATED:20240821T230457Z
LAST-MODIFIED:20240821T230457Z
UID:10004199-1880964000-1880974800@shorelegal.org
SUMMARY:Caroline County Life & Estate Planning Clinic
DESCRIPTION:BY APPOINTMENT ONLY\nDo you need a will\, financial power of attorney\, or advance medical directive? Call us at 410-690-8128 to make an appointment for a consultation with our attorneys\, who will draft your life planning documents for FREE!  
URL:https://shorelegal.org/event/caroline-county-life-estate-planning-clinic/2029-08-09/
LOCATION:Caroline County Public Library\, 100 Market Street\, Denton\, MD\, 21629\, United States
CATEGORIES:Life Planning Clinics
END:VEVENT
BEGIN:VEVENT
DTSTART;TZID=America/New_York:20290821T100000
DTEND;TZID=America/New_York:20290821T120000
DTSTAMP:20260423T150947
CREATED:20240821T231128Z
LAST-MODIFIED:20240821T231128Z
UID:10004259-1882000800-1882008000@shorelegal.org
SUMMARY:Queen Anne's County Life & Estate Planning Clinic
DESCRIPTION:BY APPOINTMENT ONLY\nDo you need a will\, financial power of attorney\, or advance medical directive? Schedule your free consultation with our volunteer attorneys today by calling 410-690-8128. We’ll help you draft your life planning documents at no cost!
URL:https://shorelegal.org/event/queen-annes-county-life-estate-planning-clinic/2029-08-21/
LOCATION:Kramer Senior Center\, 104 Powell Street\, Centreville\, MD\, 21617\, United States
CATEGORIES:Life Planning Clinics
END:VEVENT
BEGIN:VEVENT
DTSTART;TZID=America/New_York:20290822T100000
DTEND;TZID=America/New_York:20290822T130000
DTSTAMP:20260423T150947
CREATED:20240912T183007Z
LAST-MODIFIED:20240912T183435Z
UID:10004320-1882087200-1882098000@shorelegal.org
SUMMARY:Dorchester County Life & Estate Planning Clinic
DESCRIPTION:BY APPOINTMENT ONLY\nDo you need a will\, financial power of attorney\, or advance medical directive? Schedule your free consultation with our volunteer attorneys today by calling 410-690-8128. We’ll help you draft your life planning documents at no cost!
URL:https://shorelegal.org/event/dorchester-county-life-estate-planning-clinic-2/2029-08-22/
LOCATION:Dorchester County Public Library – Cambridge\, 303 Gay Street\, Cambridge\, 21613\, United States
CATEGORIES:Life Planning Clinics
END:VEVENT
BEGIN:VEVENT
DTSTART;TZID=America/New_York:20290904T110000
DTEND;TZID=America/New_York:20290904T140000
DTSTAMP:20260423T150947
CREATED:20250429T134125Z
LAST-MODIFIED:20250429T161323Z
UID:10005088-1883214000-1883224800@shorelegal.org
SUMMARY:Lower Shore Life Planning Clinic - MAC Center
DESCRIPTION:BY APPOINTMENT ONLY:  Do you need a will\, financial power of attorney\, or advance medical directive? \nSchedule your free consultation with our volunteer attorneys today by calling 410-690-8128. We’ll help you draft your life planning documents at no cost!
URL:https://shorelegal.org/event/lower-shore-life-planning-clinic-mac-center/2029-09-04/
LOCATION:MAC Inc. Center\, 909 Progress Circle\, Salisbury\, MD\, 21804\, United States
CATEGORIES:Life Planning Clinics
END:VEVENT
BEGIN:VEVENT
DTSTART;TZID=America/New_York:20290906T100000
DTEND;TZID=America/New_York:20290906T130000
DTSTAMP:20260423T150947
CREATED:20240903T171949Z
LAST-MODIFIED:20240919T142605Z
UID:10005008-1883383200-1883394000@shorelegal.org
SUMMARY:Kent County Life & Estate Planning Clinic
DESCRIPTION:BY APPOINTMENT ONLY\nDo you need a will\, financial power of attorney\, or advance medical directive? Schedule your free consultation with our volunteer attorneys today by calling 410-690-8128. We’ll help you draft your life planning documents at no cost!
URL:https://shorelegal.org/event/kent-county-life-estate-planning-clinic-2/2029-09-06/
LOCATION:Kent County Public Library\, 408 High Street\, Chestertown\, 21620\, United States
CATEGORIES:Life Planning Clinics
END:VEVENT
BEGIN:VEVENT
DTSTART;TZID=America/New_York:20291002T110000
DTEND;TZID=America/New_York:20291002T140000
DTSTAMP:20260423T150947
CREATED:20250429T134125Z
LAST-MODIFIED:20250429T161323Z
UID:10005089-1885633200-1885644000@shorelegal.org
SUMMARY:Lower Shore Life Planning Clinic - MAC Center
DESCRIPTION:BY APPOINTMENT ONLY:  Do you need a will\, financial power of attorney\, or advance medical directive? \nSchedule your free consultation with our volunteer attorneys today by calling 410-690-8128. We’ll help you draft your life planning documents at no cost!
URL:https://shorelegal.org/event/lower-shore-life-planning-clinic-mac-center/2029-10-02/
LOCATION:MAC Inc. Center\, 909 Progress Circle\, Salisbury\, MD\, 21804\, United States
CATEGORIES:Life Planning Clinics
END:VEVENT
BEGIN:VEVENT
DTSTART;TZID=America/New_York:20291106T110000
DTEND;TZID=America/New_York:20291106T140000
DTSTAMP:20260423T150947
CREATED:20250429T134125Z
LAST-MODIFIED:20250429T161323Z
UID:10005090-1888657200-1888668000@shorelegal.org
SUMMARY:Lower Shore Life Planning Clinic - MAC Center
DESCRIPTION:BY APPOINTMENT ONLY:  Do you need a will\, financial power of attorney\, or advance medical directive? \nSchedule your free consultation with our volunteer attorneys today by calling 410-690-8128. We’ll help you draft your life planning documents at no cost!
URL:https://shorelegal.org/event/lower-shore-life-planning-clinic-mac-center/2029-11-06/
LOCATION:MAC Inc. Center\, 909 Progress Circle\, Salisbury\, MD\, 21804\, United States
CATEGORIES:Life Planning Clinics
END:VEVENT
BEGIN:VEVENT
DTSTART;TZID=America/New_York:20291204T110000
DTEND;TZID=America/New_York:20291204T140000
DTSTAMP:20260423T150947
CREATED:20250429T134125Z
LAST-MODIFIED:20250429T161323Z
UID:10005091-1891076400-1891087200@shorelegal.org
SUMMARY:Lower Shore Life Planning Clinic - MAC Center
DESCRIPTION:BY APPOINTMENT ONLY:  Do you need a will\, financial power of attorney\, or advance medical directive? \nSchedule your free consultation with our volunteer attorneys today by calling 410-690-8128. We’ll help you draft your life planning documents at no cost!
URL:https://shorelegal.org/event/lower-shore-life-planning-clinic-mac-center/2029-12-04/
LOCATION:MAC Inc. Center\, 909 Progress Circle\, Salisbury\, MD\, 21804\, United States
CATEGORIES:Life Planning Clinics
END:VEVENT
BEGIN:VEVENT
DTSTART;TZID=America/New_York:20300101T110000
DTEND;TZID=America/New_York:20300101T140000
DTSTAMP:20260423T150947
CREATED:20250429T134125Z
LAST-MODIFIED:20250429T161323Z
UID:10005092-1893495600-1893506400@shorelegal.org
SUMMARY:Lower Shore Life Planning Clinic - MAC Center
DESCRIPTION:BY APPOINTMENT ONLY:  Do you need a will\, financial power of attorney\, or advance medical directive? \nSchedule your free consultation with our volunteer attorneys today by calling 410-690-8128. We’ll help you draft your life planning documents at no cost!
URL:https://shorelegal.org/event/lower-shore-life-planning-clinic-mac-center/2030-01-01/
LOCATION:MAC Inc. Center\, 909 Progress Circle\, Salisbury\, MD\, 21804\, United States
CATEGORIES:Life Planning Clinics
END:VEVENT
BEGIN:VEVENT
DTSTART;TZID=America/New_York:20300205T110000
DTEND;TZID=America/New_York:20300205T140000
DTSTAMP:20260423T150947
CREATED:20250429T134125Z
LAST-MODIFIED:20250429T161323Z
UID:10005093-1896519600-1896530400@shorelegal.org
SUMMARY:Lower Shore Life Planning Clinic - MAC Center
DESCRIPTION:BY APPOINTMENT ONLY:  Do you need a will\, financial power of attorney\, or advance medical directive? \nSchedule your free consultation with our volunteer attorneys today by calling 410-690-8128. We’ll help you draft your life planning documents at no cost!
URL:https://shorelegal.org/event/lower-shore-life-planning-clinic-mac-center/2030-02-05/
LOCATION:MAC Inc. Center\, 909 Progress Circle\, Salisbury\, MD\, 21804\, United States
CATEGORIES:Life Planning Clinics
END:VEVENT
END:VCALENDAR