BEGIN:VCALENDAR
VERSION:2.0
PRODID:-//Shore Legal Access - ECPv6.15.20//NONSGML v1.0//EN
CALSCALE:GREGORIAN
METHOD:PUBLISH
X-WR-CALNAME:Shore Legal Access
X-ORIGINAL-URL:https://shorelegal.org
X-WR-CALDESC:Events for Shore Legal Access
REFRESH-INTERVAL;VALUE=DURATION:PT1H
X-Robots-Tag:noindex
X-PUBLISHED-TTL:PT1H
BEGIN:VTIMEZONE
TZID:America/New_York
BEGIN:DAYLIGHT
TZOFFSETFROM:-0500
TZOFFSETTO:-0400
TZNAME:EDT
DTSTART:20250309T070000
END:DAYLIGHT
BEGIN:STANDARD
TZOFFSETFROM:-0400
TZOFFSETTO:-0500
TZNAME:EST
DTSTART:20251102T060000
END:STANDARD
BEGIN:DAYLIGHT
TZOFFSETFROM:-0500
TZOFFSETTO:-0400
TZNAME:EDT
DTSTART:20260308T070000
END:DAYLIGHT
BEGIN:STANDARD
TZOFFSETFROM:-0400
TZOFFSETTO:-0500
TZNAME:EST
DTSTART:20261101T060000
END:STANDARD
BEGIN:DAYLIGHT
TZOFFSETFROM:-0500
TZOFFSETTO:-0400
TZNAME:EDT
DTSTART:20270314T070000
END:DAYLIGHT
BEGIN:STANDARD
TZOFFSETFROM:-0400
TZOFFSETTO:-0500
TZNAME:EST
DTSTART:20271107T060000
END:STANDARD
BEGIN:DAYLIGHT
TZOFFSETFROM:-0500
TZOFFSETTO:-0400
TZNAME:EDT
DTSTART:20280312T070000
END:DAYLIGHT
BEGIN:STANDARD
TZOFFSETFROM:-0400
TZOFFSETTO:-0500
TZNAME:EST
DTSTART:20281105T060000
END:STANDARD
END:VTIMEZONE
BEGIN:VEVENT
DTSTART;TZID=America/New_York:20261117T100000
DTEND;TZID=America/New_York:20261117T120000
DTSTAMP:20260420T234521
CREATED:20240821T231128Z
LAST-MODIFIED:20240821T231128Z
UID:10004226-1794909600-1794916800@shorelegal.org
SUMMARY:Queen Anne's County Life & Estate Planning Clinic
DESCRIPTION:BY APPOINTMENT ONLY\nDo you need a will\, financial power of attorney\, or advance medical directive? Schedule your free consultation with our volunteer attorneys today by calling 410-690-8128. We’ll help you draft your life planning documents at no cost!
URL:https://shorelegal.org/event/queen-annes-county-life-estate-planning-clinic/2026-11-17/
LOCATION:Kramer Senior Center\, 104 Powell Street\, Centreville\, MD\, 21617\, United States
CATEGORIES:Life Planning Clinics
END:VEVENT
BEGIN:VEVENT
DTSTART;TZID=America/New_York:20261125T100000
DTEND;TZID=America/New_York:20261125T130000
DTSTAMP:20260420T234521
CREATED:20240912T183007Z
LAST-MODIFIED:20240912T183435Z
UID:10004287-1795600800-1795611600@shorelegal.org
SUMMARY:Dorchester County Life & Estate Planning Clinic
DESCRIPTION:BY APPOINTMENT ONLY\nDo you need a will\, financial power of attorney\, or advance medical directive? Schedule your free consultation with our volunteer attorneys today by calling 410-690-8128. We’ll help you draft your life planning documents at no cost!
URL:https://shorelegal.org/event/dorchester-county-life-estate-planning-clinic-2/2026-11-25/
LOCATION:Dorchester County Public Library – Cambridge\, 303 Gay Street\, Cambridge\, 21613\, United States
CATEGORIES:Life Planning Clinics
END:VEVENT
BEGIN:VEVENT
DTSTART;TZID=America/New_York:20261126T100000
DTEND;TZID=America/New_York:20261126T120000
DTSTAMP:20260420T234521
CREATED:20240821T232013Z
LAST-MODIFIED:20240821T232013Z
UID:10004348-1795687200-1795694400@shorelegal.org
SUMMARY:Talbot County Life & Estate Planning Clinic
DESCRIPTION:BY APPOINTMENT ONLY\nDo you need a will\, financial power of attorney\, or advance medical directive? Schedule your free consultation with our volunteer attorneys today by calling 410-690-8128. We’ll help you draft your life planning documents at no cost!
URL:https://shorelegal.org/event/talbot-county-life-estate-planning-clinic/2026-11-26/
LOCATION:Brookletts Place Senior Center\, 400 Brookletts Avenue\, Easton\, MD\, 21601\, United States
CATEGORIES:Life Planning Clinics
END:VEVENT
BEGIN:VEVENT
DTSTART;TZID=America/New_York:20261201T110000
DTEND;TZID=America/New_York:20261201T140000
DTSTAMP:20260420T234521
CREATED:20250429T134125Z
LAST-MODIFIED:20250429T161323Z
UID:10005055-1796122800-1796133600@shorelegal.org
SUMMARY:Lower Shore Life Planning Clinic - MAC Center
DESCRIPTION:BY APPOINTMENT ONLY:  Do you need a will\, financial power of attorney\, or advance medical directive? \nSchedule your free consultation with our volunteer attorneys today by calling 410-690-8128. We’ll help you draft your life planning documents at no cost!
URL:https://shorelegal.org/event/lower-shore-life-planning-clinic-mac-center/2026-12-01/
LOCATION:MAC Inc. Center\, 909 Progress Circle\, Salisbury\, MD\, 21804\, United States
CATEGORIES:Life Planning Clinics
END:VEVENT
BEGIN:VEVENT
DTSTART;TZID=America/New_York:20261203T100000
DTEND;TZID=America/New_York:20261203T130000
DTSTAMP:20260420T234521
CREATED:20240903T171949Z
LAST-MODIFIED:20240919T142605Z
UID:10004975-1796292000-1796302800@shorelegal.org
SUMMARY:Kent County Life & Estate Planning Clinic
DESCRIPTION:BY APPOINTMENT ONLY\nDo you need a will\, financial power of attorney\, or advance medical directive? Schedule your free consultation with our volunteer attorneys today by calling 410-690-8128. We’ll help you draft your life planning documents at no cost!
URL:https://shorelegal.org/event/kent-county-life-estate-planning-clinic-2/2026-12-03/
LOCATION:Kent County Public Library\, 408 High Street\, Chestertown\, 21620\, United States
CATEGORIES:Life Planning Clinics
END:VEVENT
BEGIN:VEVENT
DTSTART;TZID=America/New_York:20261210T100000
DTEND;TZID=America/New_York:20261210T130000
DTSTAMP:20260420T234521
CREATED:20240821T230457Z
LAST-MODIFIED:20240821T230457Z
UID:10004167-1796896800-1796907600@shorelegal.org
SUMMARY:Caroline County Life & Estate Planning Clinic
DESCRIPTION:BY APPOINTMENT ONLY\nDo you need a will\, financial power of attorney\, or advance medical directive? Call us at 410-690-8128 to make an appointment for a consultation with our attorneys\, who will draft your life planning documents for FREE!  
URL:https://shorelegal.org/event/caroline-county-life-estate-planning-clinic/2026-12-10/
LOCATION:Caroline County Public Library\, 100 Market Street\, Denton\, MD\, 21629\, United States
CATEGORIES:Life Planning Clinics
END:VEVENT
BEGIN:VEVENT
DTSTART;TZID=America/New_York:20261215T100000
DTEND;TZID=America/New_York:20261215T120000
DTSTAMP:20260420T234521
CREATED:20240821T231128Z
LAST-MODIFIED:20240821T231128Z
UID:10004227-1797328800-1797336000@shorelegal.org
SUMMARY:Queen Anne's County Life & Estate Planning Clinic
DESCRIPTION:BY APPOINTMENT ONLY\nDo you need a will\, financial power of attorney\, or advance medical directive? Schedule your free consultation with our volunteer attorneys today by calling 410-690-8128. We’ll help you draft your life planning documents at no cost!
URL:https://shorelegal.org/event/queen-annes-county-life-estate-planning-clinic/2026-12-15/
LOCATION:Kramer Senior Center\, 104 Powell Street\, Centreville\, MD\, 21617\, United States
CATEGORIES:Life Planning Clinics
END:VEVENT
BEGIN:VEVENT
DTSTART;TZID=America/New_York:20261223T100000
DTEND;TZID=America/New_York:20261223T130000
DTSTAMP:20260420T234521
CREATED:20240912T183007Z
LAST-MODIFIED:20240912T183435Z
UID:10004288-1798020000-1798030800@shorelegal.org
SUMMARY:Dorchester County Life & Estate Planning Clinic
DESCRIPTION:BY APPOINTMENT ONLY\nDo you need a will\, financial power of attorney\, or advance medical directive? Schedule your free consultation with our volunteer attorneys today by calling 410-690-8128. We’ll help you draft your life planning documents at no cost!
URL:https://shorelegal.org/event/dorchester-county-life-estate-planning-clinic-2/2026-12-23/
LOCATION:Dorchester County Public Library – Cambridge\, 303 Gay Street\, Cambridge\, 21613\, United States
CATEGORIES:Life Planning Clinics
END:VEVENT
BEGIN:VEVENT
DTSTART;TZID=America/New_York:20261224T100000
DTEND;TZID=America/New_York:20261224T120000
DTSTAMP:20260420T234521
CREATED:20240821T232013Z
LAST-MODIFIED:20240821T232013Z
UID:10004349-1798106400-1798113600@shorelegal.org
SUMMARY:Talbot County Life & Estate Planning Clinic
DESCRIPTION:BY APPOINTMENT ONLY\nDo you need a will\, financial power of attorney\, or advance medical directive? Schedule your free consultation with our volunteer attorneys today by calling 410-690-8128. We’ll help you draft your life planning documents at no cost!
URL:https://shorelegal.org/event/talbot-county-life-estate-planning-clinic/2026-12-24/
LOCATION:Brookletts Place Senior Center\, 400 Brookletts Avenue\, Easton\, MD\, 21601\, United States
CATEGORIES:Life Planning Clinics
END:VEVENT
BEGIN:VEVENT
DTSTART;TZID=America/New_York:20270105T110000
DTEND;TZID=America/New_York:20270105T140000
DTSTAMP:20260420T234521
CREATED:20250429T134125Z
LAST-MODIFIED:20250429T161323Z
UID:10005056-1799146800-1799157600@shorelegal.org
SUMMARY:Lower Shore Life Planning Clinic - MAC Center
DESCRIPTION:BY APPOINTMENT ONLY:  Do you need a will\, financial power of attorney\, or advance medical directive? \nSchedule your free consultation with our volunteer attorneys today by calling 410-690-8128. We’ll help you draft your life planning documents at no cost!
URL:https://shorelegal.org/event/lower-shore-life-planning-clinic-mac-center/2027-01-05/
LOCATION:MAC Inc. Center\, 909 Progress Circle\, Salisbury\, MD\, 21804\, United States
CATEGORIES:Life Planning Clinics
END:VEVENT
BEGIN:VEVENT
DTSTART;TZID=America/New_York:20270107T100000
DTEND;TZID=America/New_York:20270107T130000
DTSTAMP:20260420T234521
CREATED:20240903T171949Z
LAST-MODIFIED:20240919T142605Z
UID:10004976-1799316000-1799326800@shorelegal.org
SUMMARY:Kent County Life & Estate Planning Clinic
DESCRIPTION:BY APPOINTMENT ONLY\nDo you need a will\, financial power of attorney\, or advance medical directive? Schedule your free consultation with our volunteer attorneys today by calling 410-690-8128. We’ll help you draft your life planning documents at no cost!
URL:https://shorelegal.org/event/kent-county-life-estate-planning-clinic-2/2027-01-07/
LOCATION:Kent County Public Library\, 408 High Street\, Chestertown\, 21620\, United States
CATEGORIES:Life Planning Clinics
END:VEVENT
BEGIN:VEVENT
DTSTART;TZID=America/New_York:20270114T100000
DTEND;TZID=America/New_York:20270114T130000
DTSTAMP:20260420T234521
CREATED:20240821T230457Z
LAST-MODIFIED:20240821T230457Z
UID:10004168-1799920800-1799931600@shorelegal.org
SUMMARY:Caroline County Life & Estate Planning Clinic
DESCRIPTION:BY APPOINTMENT ONLY\nDo you need a will\, financial power of attorney\, or advance medical directive? Call us at 410-690-8128 to make an appointment for a consultation with our attorneys\, who will draft your life planning documents for FREE!  
URL:https://shorelegal.org/event/caroline-county-life-estate-planning-clinic/2027-01-14/
LOCATION:Caroline County Public Library\, 100 Market Street\, Denton\, MD\, 21629\, United States
CATEGORIES:Life Planning Clinics
END:VEVENT
BEGIN:VEVENT
DTSTART;TZID=America/New_York:20270119T100000
DTEND;TZID=America/New_York:20270119T120000
DTSTAMP:20260420T234521
CREATED:20240821T231128Z
LAST-MODIFIED:20240821T231128Z
UID:10004228-1800352800-1800360000@shorelegal.org
SUMMARY:Queen Anne's County Life & Estate Planning Clinic
DESCRIPTION:BY APPOINTMENT ONLY\nDo you need a will\, financial power of attorney\, or advance medical directive? Schedule your free consultation with our volunteer attorneys today by calling 410-690-8128. We’ll help you draft your life planning documents at no cost!
URL:https://shorelegal.org/event/queen-annes-county-life-estate-planning-clinic/2027-01-19/
LOCATION:Kramer Senior Center\, 104 Powell Street\, Centreville\, MD\, 21617\, United States
CATEGORIES:Life Planning Clinics
END:VEVENT
BEGIN:VEVENT
DTSTART;TZID=America/New_York:20270127T100000
DTEND;TZID=America/New_York:20270127T130000
DTSTAMP:20260420T234521
CREATED:20240912T183007Z
LAST-MODIFIED:20240912T183435Z
UID:10004289-1801044000-1801054800@shorelegal.org
SUMMARY:Dorchester County Life & Estate Planning Clinic
DESCRIPTION:BY APPOINTMENT ONLY\nDo you need a will\, financial power of attorney\, or advance medical directive? Schedule your free consultation with our volunteer attorneys today by calling 410-690-8128. We’ll help you draft your life planning documents at no cost!
URL:https://shorelegal.org/event/dorchester-county-life-estate-planning-clinic-2/2027-01-27/
LOCATION:Dorchester County Public Library – Cambridge\, 303 Gay Street\, Cambridge\, 21613\, United States
CATEGORIES:Life Planning Clinics
END:VEVENT
BEGIN:VEVENT
DTSTART;TZID=America/New_York:20270128T100000
DTEND;TZID=America/New_York:20270128T120000
DTSTAMP:20260420T234521
CREATED:20240821T232013Z
LAST-MODIFIED:20240821T232013Z
UID:10004350-1801130400-1801137600@shorelegal.org
SUMMARY:Talbot County Life & Estate Planning Clinic
DESCRIPTION:BY APPOINTMENT ONLY\nDo you need a will\, financial power of attorney\, or advance medical directive? Schedule your free consultation with our volunteer attorneys today by calling 410-690-8128. We’ll help you draft your life planning documents at no cost!
URL:https://shorelegal.org/event/talbot-county-life-estate-planning-clinic/2027-01-28/
LOCATION:Brookletts Place Senior Center\, 400 Brookletts Avenue\, Easton\, MD\, 21601\, United States
CATEGORIES:Life Planning Clinics
END:VEVENT
BEGIN:VEVENT
DTSTART;TZID=America/New_York:20270202T110000
DTEND;TZID=America/New_York:20270202T140000
DTSTAMP:20260420T234521
CREATED:20250429T134125Z
LAST-MODIFIED:20250429T161323Z
UID:10005057-1801566000-1801576800@shorelegal.org
SUMMARY:Lower Shore Life Planning Clinic - MAC Center
DESCRIPTION:BY APPOINTMENT ONLY:  Do you need a will\, financial power of attorney\, or advance medical directive? \nSchedule your free consultation with our volunteer attorneys today by calling 410-690-8128. We’ll help you draft your life planning documents at no cost!
URL:https://shorelegal.org/event/lower-shore-life-planning-clinic-mac-center/2027-02-02/
LOCATION:MAC Inc. Center\, 909 Progress Circle\, Salisbury\, MD\, 21804\, United States
CATEGORIES:Life Planning Clinics
END:VEVENT
BEGIN:VEVENT
DTSTART;TZID=America/New_York:20270204T100000
DTEND;TZID=America/New_York:20270204T130000
DTSTAMP:20260420T234521
CREATED:20240903T171949Z
LAST-MODIFIED:20240919T142605Z
UID:10004977-1801735200-1801746000@shorelegal.org
SUMMARY:Kent County Life & Estate Planning Clinic
DESCRIPTION:BY APPOINTMENT ONLY\nDo you need a will\, financial power of attorney\, or advance medical directive? Schedule your free consultation with our volunteer attorneys today by calling 410-690-8128. We’ll help you draft your life planning documents at no cost!
URL:https://shorelegal.org/event/kent-county-life-estate-planning-clinic-2/2027-02-04/
LOCATION:Kent County Public Library\, 408 High Street\, Chestertown\, 21620\, United States
CATEGORIES:Life Planning Clinics
END:VEVENT
BEGIN:VEVENT
DTSTART;TZID=America/New_York:20270211T100000
DTEND;TZID=America/New_York:20270211T130000
DTSTAMP:20260420T234521
CREATED:20240821T230457Z
LAST-MODIFIED:20240821T230457Z
UID:10004169-1802340000-1802350800@shorelegal.org
SUMMARY:Caroline County Life & Estate Planning Clinic
DESCRIPTION:BY APPOINTMENT ONLY\nDo you need a will\, financial power of attorney\, or advance medical directive? Call us at 410-690-8128 to make an appointment for a consultation with our attorneys\, who will draft your life planning documents for FREE!  
URL:https://shorelegal.org/event/caroline-county-life-estate-planning-clinic/2027-02-11/
LOCATION:Caroline County Public Library\, 100 Market Street\, Denton\, MD\, 21629\, United States
CATEGORIES:Life Planning Clinics
END:VEVENT
BEGIN:VEVENT
DTSTART;TZID=America/New_York:20270216T100000
DTEND;TZID=America/New_York:20270216T120000
DTSTAMP:20260420T234521
CREATED:20240821T231128Z
LAST-MODIFIED:20240821T231128Z
UID:10004229-1802772000-1802779200@shorelegal.org
SUMMARY:Queen Anne's County Life & Estate Planning Clinic
DESCRIPTION:BY APPOINTMENT ONLY\nDo you need a will\, financial power of attorney\, or advance medical directive? Schedule your free consultation with our volunteer attorneys today by calling 410-690-8128. We’ll help you draft your life planning documents at no cost!
URL:https://shorelegal.org/event/queen-annes-county-life-estate-planning-clinic/2027-02-16/
LOCATION:Kramer Senior Center\, 104 Powell Street\, Centreville\, MD\, 21617\, United States
CATEGORIES:Life Planning Clinics
END:VEVENT
BEGIN:VEVENT
DTSTART;TZID=America/New_York:20270224T100000
DTEND;TZID=America/New_York:20270224T130000
DTSTAMP:20260420T234521
CREATED:20240912T183007Z
LAST-MODIFIED:20240912T183435Z
UID:10004290-1803463200-1803474000@shorelegal.org
SUMMARY:Dorchester County Life & Estate Planning Clinic
DESCRIPTION:BY APPOINTMENT ONLY\nDo you need a will\, financial power of attorney\, or advance medical directive? Schedule your free consultation with our volunteer attorneys today by calling 410-690-8128. We’ll help you draft your life planning documents at no cost!
URL:https://shorelegal.org/event/dorchester-county-life-estate-planning-clinic-2/2027-02-24/
LOCATION:Dorchester County Public Library – Cambridge\, 303 Gay Street\, Cambridge\, 21613\, United States
CATEGORIES:Life Planning Clinics
END:VEVENT
BEGIN:VEVENT
DTSTART;TZID=America/New_York:20270225T100000
DTEND;TZID=America/New_York:20270225T120000
DTSTAMP:20260420T234521
CREATED:20240821T232013Z
LAST-MODIFIED:20240821T232013Z
UID:10004351-1803549600-1803556800@shorelegal.org
SUMMARY:Talbot County Life & Estate Planning Clinic
DESCRIPTION:BY APPOINTMENT ONLY\nDo you need a will\, financial power of attorney\, or advance medical directive? Schedule your free consultation with our volunteer attorneys today by calling 410-690-8128. We’ll help you draft your life planning documents at no cost!
URL:https://shorelegal.org/event/talbot-county-life-estate-planning-clinic/2027-02-25/
LOCATION:Brookletts Place Senior Center\, 400 Brookletts Avenue\, Easton\, MD\, 21601\, United States
CATEGORIES:Life Planning Clinics
END:VEVENT
BEGIN:VEVENT
DTSTART;TZID=America/New_York:20270302T110000
DTEND;TZID=America/New_York:20270302T140000
DTSTAMP:20260420T234521
CREATED:20250429T134125Z
LAST-MODIFIED:20250429T161323Z
UID:10005058-1803985200-1803996000@shorelegal.org
SUMMARY:Lower Shore Life Planning Clinic - MAC Center
DESCRIPTION:BY APPOINTMENT ONLY:  Do you need a will\, financial power of attorney\, or advance medical directive? \nSchedule your free consultation with our volunteer attorneys today by calling 410-690-8128. We’ll help you draft your life planning documents at no cost!
URL:https://shorelegal.org/event/lower-shore-life-planning-clinic-mac-center/2027-03-02/
LOCATION:MAC Inc. Center\, 909 Progress Circle\, Salisbury\, MD\, 21804\, United States
CATEGORIES:Life Planning Clinics
END:VEVENT
BEGIN:VEVENT
DTSTART;TZID=America/New_York:20270304T100000
DTEND;TZID=America/New_York:20270304T130000
DTSTAMP:20260420T234521
CREATED:20240903T171949Z
LAST-MODIFIED:20240919T142605Z
UID:10004978-1804154400-1804165200@shorelegal.org
SUMMARY:Kent County Life & Estate Planning Clinic
DESCRIPTION:BY APPOINTMENT ONLY\nDo you need a will\, financial power of attorney\, or advance medical directive? Schedule your free consultation with our volunteer attorneys today by calling 410-690-8128. We’ll help you draft your life planning documents at no cost!
URL:https://shorelegal.org/event/kent-county-life-estate-planning-clinic-2/2027-03-04/
LOCATION:Kent County Public Library\, 408 High Street\, Chestertown\, 21620\, United States
CATEGORIES:Life Planning Clinics
END:VEVENT
BEGIN:VEVENT
DTSTART;TZID=America/New_York:20270311T100000
DTEND;TZID=America/New_York:20270311T130000
DTSTAMP:20260420T234521
CREATED:20240821T230457Z
LAST-MODIFIED:20240821T230457Z
UID:10004170-1804759200-1804770000@shorelegal.org
SUMMARY:Caroline County Life & Estate Planning Clinic
DESCRIPTION:BY APPOINTMENT ONLY\nDo you need a will\, financial power of attorney\, or advance medical directive? Call us at 410-690-8128 to make an appointment for a consultation with our attorneys\, who will draft your life planning documents for FREE!  
URL:https://shorelegal.org/event/caroline-county-life-estate-planning-clinic/2027-03-11/
LOCATION:Caroline County Public Library\, 100 Market Street\, Denton\, MD\, 21629\, United States
CATEGORIES:Life Planning Clinics
END:VEVENT
BEGIN:VEVENT
DTSTART;TZID=America/New_York:20270316T100000
DTEND;TZID=America/New_York:20270316T120000
DTSTAMP:20260420T234521
CREATED:20240821T231128Z
LAST-MODIFIED:20240821T231128Z
UID:10004230-1805191200-1805198400@shorelegal.org
SUMMARY:Queen Anne's County Life & Estate Planning Clinic
DESCRIPTION:BY APPOINTMENT ONLY\nDo you need a will\, financial power of attorney\, or advance medical directive? Schedule your free consultation with our volunteer attorneys today by calling 410-690-8128. We’ll help you draft your life planning documents at no cost!
URL:https://shorelegal.org/event/queen-annes-county-life-estate-planning-clinic/2027-03-16/
LOCATION:Kramer Senior Center\, 104 Powell Street\, Centreville\, MD\, 21617\, United States
CATEGORIES:Life Planning Clinics
END:VEVENT
BEGIN:VEVENT
DTSTART;TZID=America/New_York:20270324T100000
DTEND;TZID=America/New_York:20270324T130000
DTSTAMP:20260420T234521
CREATED:20240912T183007Z
LAST-MODIFIED:20240912T183435Z
UID:10004291-1805882400-1805893200@shorelegal.org
SUMMARY:Dorchester County Life & Estate Planning Clinic
DESCRIPTION:BY APPOINTMENT ONLY\nDo you need a will\, financial power of attorney\, or advance medical directive? Schedule your free consultation with our volunteer attorneys today by calling 410-690-8128. We’ll help you draft your life planning documents at no cost!
URL:https://shorelegal.org/event/dorchester-county-life-estate-planning-clinic-2/2027-03-24/
LOCATION:Dorchester County Public Library – Cambridge\, 303 Gay Street\, Cambridge\, 21613\, United States
CATEGORIES:Life Planning Clinics
END:VEVENT
BEGIN:VEVENT
DTSTART;TZID=America/New_York:20270325T100000
DTEND;TZID=America/New_York:20270325T120000
DTSTAMP:20260420T234521
CREATED:20240821T232013Z
LAST-MODIFIED:20240821T232013Z
UID:10004352-1805968800-1805976000@shorelegal.org
SUMMARY:Talbot County Life & Estate Planning Clinic
DESCRIPTION:BY APPOINTMENT ONLY\nDo you need a will\, financial power of attorney\, or advance medical directive? Schedule your free consultation with our volunteer attorneys today by calling 410-690-8128. We’ll help you draft your life planning documents at no cost!
URL:https://shorelegal.org/event/talbot-county-life-estate-planning-clinic/2027-03-25/
LOCATION:Brookletts Place Senior Center\, 400 Brookletts Avenue\, Easton\, MD\, 21601\, United States
CATEGORIES:Life Planning Clinics
END:VEVENT
BEGIN:VEVENT
DTSTART;TZID=America/New_York:20270401T100000
DTEND;TZID=America/New_York:20270401T130000
DTSTAMP:20260420T234521
CREATED:20240903T171949Z
LAST-MODIFIED:20240919T142605Z
UID:10004979-1806573600-1806584400@shorelegal.org
SUMMARY:Kent County Life & Estate Planning Clinic
DESCRIPTION:BY APPOINTMENT ONLY\nDo you need a will\, financial power of attorney\, or advance medical directive? Schedule your free consultation with our volunteer attorneys today by calling 410-690-8128. We’ll help you draft your life planning documents at no cost!
URL:https://shorelegal.org/event/kent-county-life-estate-planning-clinic-2/2027-04-01/
LOCATION:Kent County Public Library\, 408 High Street\, Chestertown\, 21620\, United States
CATEGORIES:Life Planning Clinics
END:VEVENT
BEGIN:VEVENT
DTSTART;TZID=America/New_York:20270406T110000
DTEND;TZID=America/New_York:20270406T140000
DTSTAMP:20260420T234521
CREATED:20250429T134125Z
LAST-MODIFIED:20250429T161323Z
UID:10005059-1807009200-1807020000@shorelegal.org
SUMMARY:Lower Shore Life Planning Clinic - MAC Center
DESCRIPTION:BY APPOINTMENT ONLY:  Do you need a will\, financial power of attorney\, or advance medical directive? \nSchedule your free consultation with our volunteer attorneys today by calling 410-690-8128. We’ll help you draft your life planning documents at no cost!
URL:https://shorelegal.org/event/lower-shore-life-planning-clinic-mac-center/2027-04-06/
LOCATION:MAC Inc. Center\, 909 Progress Circle\, Salisbury\, MD\, 21804\, United States
CATEGORIES:Life Planning Clinics
END:VEVENT
BEGIN:VEVENT
DTSTART;TZID=America/New_York:20270408T100000
DTEND;TZID=America/New_York:20270408T130000
DTSTAMP:20260420T234521
CREATED:20240821T230457Z
LAST-MODIFIED:20240821T230457Z
UID:10004171-1807178400-1807189200@shorelegal.org
SUMMARY:Caroline County Life & Estate Planning Clinic
DESCRIPTION:BY APPOINTMENT ONLY\nDo you need a will\, financial power of attorney\, or advance medical directive? Call us at 410-690-8128 to make an appointment for a consultation with our attorneys\, who will draft your life planning documents for FREE!  
URL:https://shorelegal.org/event/caroline-county-life-estate-planning-clinic/2027-04-08/
LOCATION:Caroline County Public Library\, 100 Market Street\, Denton\, MD\, 21629\, United States
CATEGORIES:Life Planning Clinics
END:VEVENT
END:VCALENDAR