BEGIN:VCALENDAR
VERSION:2.0
PRODID:-//Shore Legal Access - ECPv6.15.20//NONSGML v1.0//EN
CALSCALE:GREGORIAN
METHOD:PUBLISH
X-WR-CALNAME:Shore Legal Access
X-ORIGINAL-URL:https://shorelegal.org
X-WR-CALDESC:Events for Shore Legal Access
REFRESH-INTERVAL;VALUE=DURATION:PT1H
X-Robots-Tag:noindex
X-PUBLISHED-TTL:PT1H
BEGIN:VTIMEZONE
TZID:America/New_York
BEGIN:DAYLIGHT
TZOFFSETFROM:-0500
TZOFFSETTO:-0400
TZNAME:EDT
DTSTART:20270314T070000
END:DAYLIGHT
BEGIN:STANDARD
TZOFFSETFROM:-0400
TZOFFSETTO:-0500
TZNAME:EST
DTSTART:20271107T060000
END:STANDARD
BEGIN:DAYLIGHT
TZOFFSETFROM:-0500
TZOFFSETTO:-0400
TZNAME:EDT
DTSTART:20280312T070000
END:DAYLIGHT
BEGIN:STANDARD
TZOFFSETFROM:-0400
TZOFFSETTO:-0500
TZNAME:EST
DTSTART:20281105T060000
END:STANDARD
BEGIN:DAYLIGHT
TZOFFSETFROM:-0500
TZOFFSETTO:-0400
TZNAME:EDT
DTSTART:20290311T070000
END:DAYLIGHT
BEGIN:STANDARD
TZOFFSETFROM:-0400
TZOFFSETTO:-0500
TZNAME:EST
DTSTART:20291104T060000
END:STANDARD
END:VTIMEZONE
BEGIN:VEVENT
DTSTART;TZID=America/New_York:20280302T100000
DTEND;TZID=America/New_York:20280302T130000
DTSTAMP:20260421T153002
CREATED:20240903T171949Z
LAST-MODIFIED:20240919T142605Z
UID:10004990-1835604000-1835614800@shorelegal.org
SUMMARY:Kent County Life & Estate Planning Clinic
DESCRIPTION:BY APPOINTMENT ONLY\nDo you need a will\, financial power of attorney\, or advance medical directive? Schedule your free consultation with our volunteer attorneys today by calling 410-690-8128. We’ll help you draft your life planning documents at no cost!
URL:https://shorelegal.org/event/kent-county-life-estate-planning-clinic-2/2028-03-02/
LOCATION:Kent County Public Library\, 408 High Street\, Chestertown\, 21620\, United States
CATEGORIES:Life Planning Clinics
END:VEVENT
BEGIN:VEVENT
DTSTART;TZID=America/New_York:20280307T110000
DTEND;TZID=America/New_York:20280307T140000
DTSTAMP:20260421T153002
CREATED:20250429T134125Z
LAST-MODIFIED:20250429T161323Z
UID:10005070-1836039600-1836050400@shorelegal.org
SUMMARY:Lower Shore Life Planning Clinic - MAC Center
DESCRIPTION:BY APPOINTMENT ONLY:  Do you need a will\, financial power of attorney\, or advance medical directive? \nSchedule your free consultation with our volunteer attorneys today by calling 410-690-8128. We’ll help you draft your life planning documents at no cost!
URL:https://shorelegal.org/event/lower-shore-life-planning-clinic-mac-center/2028-03-07/
LOCATION:MAC Inc. Center\, 909 Progress Circle\, Salisbury\, MD\, 21804\, United States
CATEGORIES:Life Planning Clinics
END:VEVENT
BEGIN:VEVENT
DTSTART;TZID=America/New_York:20280309T100000
DTEND;TZID=America/New_York:20280309T130000
DTSTAMP:20260421T153002
CREATED:20240821T230457Z
LAST-MODIFIED:20240821T230457Z
UID:10004182-1836208800-1836219600@shorelegal.org
SUMMARY:Caroline County Life & Estate Planning Clinic
DESCRIPTION:BY APPOINTMENT ONLY\nDo you need a will\, financial power of attorney\, or advance medical directive? Call us at 410-690-8128 to make an appointment for a consultation with our attorneys\, who will draft your life planning documents for FREE!  
URL:https://shorelegal.org/event/caroline-county-life-estate-planning-clinic/2028-03-09/
LOCATION:Caroline County Public Library\, 100 Market Street\, Denton\, MD\, 21629\, United States
CATEGORIES:Life Planning Clinics
END:VEVENT
BEGIN:VEVENT
DTSTART;TZID=America/New_York:20280321T100000
DTEND;TZID=America/New_York:20280321T120000
DTSTAMP:20260421T153002
CREATED:20240821T231128Z
LAST-MODIFIED:20240821T231128Z
UID:10004242-1837245600-1837252800@shorelegal.org
SUMMARY:Queen Anne's County Life & Estate Planning Clinic
DESCRIPTION:BY APPOINTMENT ONLY\nDo you need a will\, financial power of attorney\, or advance medical directive? Schedule your free consultation with our volunteer attorneys today by calling 410-690-8128. We’ll help you draft your life planning documents at no cost!
URL:https://shorelegal.org/event/queen-annes-county-life-estate-planning-clinic/2028-03-21/
LOCATION:Kramer Senior Center\, 104 Powell Street\, Centreville\, MD\, 21617\, United States
CATEGORIES:Life Planning Clinics
END:VEVENT
BEGIN:VEVENT
DTSTART;TZID=America/New_York:20280322T100000
DTEND;TZID=America/New_York:20280322T130000
DTSTAMP:20260421T153002
CREATED:20240912T183007Z
LAST-MODIFIED:20240912T183435Z
UID:10004303-1837332000-1837342800@shorelegal.org
SUMMARY:Dorchester County Life & Estate Planning Clinic
DESCRIPTION:BY APPOINTMENT ONLY\nDo you need a will\, financial power of attorney\, or advance medical directive? Schedule your free consultation with our volunteer attorneys today by calling 410-690-8128. We’ll help you draft your life planning documents at no cost!
URL:https://shorelegal.org/event/dorchester-county-life-estate-planning-clinic-2/2028-03-22/
LOCATION:Dorchester County Public Library – Cambridge\, 303 Gay Street\, Cambridge\, 21613\, United States
CATEGORIES:Life Planning Clinics
END:VEVENT
BEGIN:VEVENT
DTSTART;TZID=America/New_York:20280323T100000
DTEND;TZID=America/New_York:20280323T120000
DTSTAMP:20260421T153002
CREATED:20240821T232013Z
LAST-MODIFIED:20240821T232013Z
UID:10004364-1837418400-1837425600@shorelegal.org
SUMMARY:Talbot County Life & Estate Planning Clinic
DESCRIPTION:BY APPOINTMENT ONLY\nDo you need a will\, financial power of attorney\, or advance medical directive? Schedule your free consultation with our volunteer attorneys today by calling 410-690-8128. We’ll help you draft your life planning documents at no cost!
URL:https://shorelegal.org/event/talbot-county-life-estate-planning-clinic/2028-03-23/
LOCATION:Brookletts Place Senior Center\, 400 Brookletts Avenue\, Easton\, MD\, 21601\, United States
CATEGORIES:Life Planning Clinics
END:VEVENT
BEGIN:VEVENT
DTSTART;TZID=America/New_York:20280404T110000
DTEND;TZID=America/New_York:20280404T140000
DTSTAMP:20260421T153002
CREATED:20250429T134125Z
LAST-MODIFIED:20250429T161323Z
UID:10005071-1838458800-1838469600@shorelegal.org
SUMMARY:Lower Shore Life Planning Clinic - MAC Center
DESCRIPTION:BY APPOINTMENT ONLY:  Do you need a will\, financial power of attorney\, or advance medical directive? \nSchedule your free consultation with our volunteer attorneys today by calling 410-690-8128. We’ll help you draft your life planning documents at no cost!
URL:https://shorelegal.org/event/lower-shore-life-planning-clinic-mac-center/2028-04-04/
LOCATION:MAC Inc. Center\, 909 Progress Circle\, Salisbury\, MD\, 21804\, United States
CATEGORIES:Life Planning Clinics
END:VEVENT
BEGIN:VEVENT
DTSTART;TZID=America/New_York:20280406T100000
DTEND;TZID=America/New_York:20280406T130000
DTSTAMP:20260421T153002
CREATED:20240903T171949Z
LAST-MODIFIED:20240919T142605Z
UID:10004991-1838628000-1838638800@shorelegal.org
SUMMARY:Kent County Life & Estate Planning Clinic
DESCRIPTION:BY APPOINTMENT ONLY\nDo you need a will\, financial power of attorney\, or advance medical directive? Schedule your free consultation with our volunteer attorneys today by calling 410-690-8128. We’ll help you draft your life planning documents at no cost!
URL:https://shorelegal.org/event/kent-county-life-estate-planning-clinic-2/2028-04-06/
LOCATION:Kent County Public Library\, 408 High Street\, Chestertown\, 21620\, United States
CATEGORIES:Life Planning Clinics
END:VEVENT
BEGIN:VEVENT
DTSTART;TZID=America/New_York:20280413T100000
DTEND;TZID=America/New_York:20280413T130000
DTSTAMP:20260421T153002
CREATED:20240821T230457Z
LAST-MODIFIED:20240821T230457Z
UID:10004183-1839232800-1839243600@shorelegal.org
SUMMARY:Caroline County Life & Estate Planning Clinic
DESCRIPTION:BY APPOINTMENT ONLY\nDo you need a will\, financial power of attorney\, or advance medical directive? Call us at 410-690-8128 to make an appointment for a consultation with our attorneys\, who will draft your life planning documents for FREE!  
URL:https://shorelegal.org/event/caroline-county-life-estate-planning-clinic/2028-04-13/
LOCATION:Caroline County Public Library\, 100 Market Street\, Denton\, MD\, 21629\, United States
CATEGORIES:Life Planning Clinics
END:VEVENT
BEGIN:VEVENT
DTSTART;TZID=America/New_York:20280418T100000
DTEND;TZID=America/New_York:20280418T120000
DTSTAMP:20260421T153002
CREATED:20240821T231128Z
LAST-MODIFIED:20240821T231128Z
UID:10004243-1839664800-1839672000@shorelegal.org
SUMMARY:Queen Anne's County Life & Estate Planning Clinic
DESCRIPTION:BY APPOINTMENT ONLY\nDo you need a will\, financial power of attorney\, or advance medical directive? Schedule your free consultation with our volunteer attorneys today by calling 410-690-8128. We’ll help you draft your life planning documents at no cost!
URL:https://shorelegal.org/event/queen-annes-county-life-estate-planning-clinic/2028-04-18/
LOCATION:Kramer Senior Center\, 104 Powell Street\, Centreville\, MD\, 21617\, United States
CATEGORIES:Life Planning Clinics
END:VEVENT
BEGIN:VEVENT
DTSTART;TZID=America/New_York:20280426T100000
DTEND;TZID=America/New_York:20280426T130000
DTSTAMP:20260421T153002
CREATED:20240912T183007Z
LAST-MODIFIED:20240912T183435Z
UID:10004304-1840356000-1840366800@shorelegal.org
SUMMARY:Dorchester County Life & Estate Planning Clinic
DESCRIPTION:BY APPOINTMENT ONLY\nDo you need a will\, financial power of attorney\, or advance medical directive? Schedule your free consultation with our volunteer attorneys today by calling 410-690-8128. We’ll help you draft your life planning documents at no cost!
URL:https://shorelegal.org/event/dorchester-county-life-estate-planning-clinic-2/2028-04-26/
LOCATION:Dorchester County Public Library – Cambridge\, 303 Gay Street\, Cambridge\, 21613\, United States
CATEGORIES:Life Planning Clinics
END:VEVENT
BEGIN:VEVENT
DTSTART;TZID=America/New_York:20280427T100000
DTEND;TZID=America/New_York:20280427T120000
DTSTAMP:20260421T153002
CREATED:20240821T232013Z
LAST-MODIFIED:20240821T232013Z
UID:10004365-1840442400-1840449600@shorelegal.org
SUMMARY:Talbot County Life & Estate Planning Clinic
DESCRIPTION:BY APPOINTMENT ONLY\nDo you need a will\, financial power of attorney\, or advance medical directive? Schedule your free consultation with our volunteer attorneys today by calling 410-690-8128. We’ll help you draft your life planning documents at no cost!
URL:https://shorelegal.org/event/talbot-county-life-estate-planning-clinic/2028-04-27/
LOCATION:Brookletts Place Senior Center\, 400 Brookletts Avenue\, Easton\, MD\, 21601\, United States
CATEGORIES:Life Planning Clinics
END:VEVENT
BEGIN:VEVENT
DTSTART;TZID=America/New_York:20280502T110000
DTEND;TZID=America/New_York:20280502T140000
DTSTAMP:20260421T153002
CREATED:20250429T134125Z
LAST-MODIFIED:20250429T161323Z
UID:10005072-1840878000-1840888800@shorelegal.org
SUMMARY:Lower Shore Life Planning Clinic - MAC Center
DESCRIPTION:BY APPOINTMENT ONLY:  Do you need a will\, financial power of attorney\, or advance medical directive? \nSchedule your free consultation with our volunteer attorneys today by calling 410-690-8128. We’ll help you draft your life planning documents at no cost!
URL:https://shorelegal.org/event/lower-shore-life-planning-clinic-mac-center/2028-05-02/
LOCATION:MAC Inc. Center\, 909 Progress Circle\, Salisbury\, MD\, 21804\, United States
CATEGORIES:Life Planning Clinics
END:VEVENT
BEGIN:VEVENT
DTSTART;TZID=America/New_York:20280504T100000
DTEND;TZID=America/New_York:20280504T130000
DTSTAMP:20260421T153002
CREATED:20240903T171949Z
LAST-MODIFIED:20240919T142605Z
UID:10004992-1841047200-1841058000@shorelegal.org
SUMMARY:Kent County Life & Estate Planning Clinic
DESCRIPTION:BY APPOINTMENT ONLY\nDo you need a will\, financial power of attorney\, or advance medical directive? Schedule your free consultation with our volunteer attorneys today by calling 410-690-8128. We’ll help you draft your life planning documents at no cost!
URL:https://shorelegal.org/event/kent-county-life-estate-planning-clinic-2/2028-05-04/
LOCATION:Kent County Public Library\, 408 High Street\, Chestertown\, 21620\, United States
CATEGORIES:Life Planning Clinics
END:VEVENT
BEGIN:VEVENT
DTSTART;TZID=America/New_York:20280511T100000
DTEND;TZID=America/New_York:20280511T130000
DTSTAMP:20260421T153002
CREATED:20240821T230457Z
LAST-MODIFIED:20240821T230457Z
UID:10004184-1841652000-1841662800@shorelegal.org
SUMMARY:Caroline County Life & Estate Planning Clinic
DESCRIPTION:BY APPOINTMENT ONLY\nDo you need a will\, financial power of attorney\, or advance medical directive? Call us at 410-690-8128 to make an appointment for a consultation with our attorneys\, who will draft your life planning documents for FREE!  
URL:https://shorelegal.org/event/caroline-county-life-estate-planning-clinic/2028-05-11/
LOCATION:Caroline County Public Library\, 100 Market Street\, Denton\, MD\, 21629\, United States
CATEGORIES:Life Planning Clinics
END:VEVENT
BEGIN:VEVENT
DTSTART;TZID=America/New_York:20280516T100000
DTEND;TZID=America/New_York:20280516T120000
DTSTAMP:20260421T153002
CREATED:20240821T231128Z
LAST-MODIFIED:20240821T231128Z
UID:10004244-1842084000-1842091200@shorelegal.org
SUMMARY:Queen Anne's County Life & Estate Planning Clinic
DESCRIPTION:BY APPOINTMENT ONLY\nDo you need a will\, financial power of attorney\, or advance medical directive? Schedule your free consultation with our volunteer attorneys today by calling 410-690-8128. We’ll help you draft your life planning documents at no cost!
URL:https://shorelegal.org/event/queen-annes-county-life-estate-planning-clinic/2028-05-16/
LOCATION:Kramer Senior Center\, 104 Powell Street\, Centreville\, MD\, 21617\, United States
CATEGORIES:Life Planning Clinics
END:VEVENT
BEGIN:VEVENT
DTSTART;TZID=America/New_York:20280524T100000
DTEND;TZID=America/New_York:20280524T130000
DTSTAMP:20260421T153002
CREATED:20240912T183007Z
LAST-MODIFIED:20240912T183435Z
UID:10004305-1842775200-1842786000@shorelegal.org
SUMMARY:Dorchester County Life & Estate Planning Clinic
DESCRIPTION:BY APPOINTMENT ONLY\nDo you need a will\, financial power of attorney\, or advance medical directive? Schedule your free consultation with our volunteer attorneys today by calling 410-690-8128. We’ll help you draft your life planning documents at no cost!
URL:https://shorelegal.org/event/dorchester-county-life-estate-planning-clinic-2/2028-05-24/
LOCATION:Dorchester County Public Library – Cambridge\, 303 Gay Street\, Cambridge\, 21613\, United States
CATEGORIES:Life Planning Clinics
END:VEVENT
BEGIN:VEVENT
DTSTART;TZID=America/New_York:20280525T100000
DTEND;TZID=America/New_York:20280525T120000
DTSTAMP:20260421T153002
CREATED:20240821T232013Z
LAST-MODIFIED:20240821T232013Z
UID:10004366-1842861600-1842868800@shorelegal.org
SUMMARY:Talbot County Life & Estate Planning Clinic
DESCRIPTION:BY APPOINTMENT ONLY\nDo you need a will\, financial power of attorney\, or advance medical directive? Schedule your free consultation with our volunteer attorneys today by calling 410-690-8128. We’ll help you draft your life planning documents at no cost!
URL:https://shorelegal.org/event/talbot-county-life-estate-planning-clinic/2028-05-25/
LOCATION:Brookletts Place Senior Center\, 400 Brookletts Avenue\, Easton\, MD\, 21601\, United States
CATEGORIES:Life Planning Clinics
END:VEVENT
BEGIN:VEVENT
DTSTART;TZID=America/New_York:20280601T100000
DTEND;TZID=America/New_York:20280601T130000
DTSTAMP:20260421T153002
CREATED:20240903T171949Z
LAST-MODIFIED:20240919T142605Z
UID:10004993-1843466400-1843477200@shorelegal.org
SUMMARY:Kent County Life & Estate Planning Clinic
DESCRIPTION:BY APPOINTMENT ONLY\nDo you need a will\, financial power of attorney\, or advance medical directive? Schedule your free consultation with our volunteer attorneys today by calling 410-690-8128. We’ll help you draft your life planning documents at no cost!
URL:https://shorelegal.org/event/kent-county-life-estate-planning-clinic-2/2028-06-01/
LOCATION:Kent County Public Library\, 408 High Street\, Chestertown\, 21620\, United States
CATEGORIES:Life Planning Clinics
END:VEVENT
BEGIN:VEVENT
DTSTART;TZID=America/New_York:20280606T110000
DTEND;TZID=America/New_York:20280606T140000
DTSTAMP:20260421T153002
CREATED:20250429T134125Z
LAST-MODIFIED:20250429T161323Z
UID:10005073-1843902000-1843912800@shorelegal.org
SUMMARY:Lower Shore Life Planning Clinic - MAC Center
DESCRIPTION:BY APPOINTMENT ONLY:  Do you need a will\, financial power of attorney\, or advance medical directive? \nSchedule your free consultation with our volunteer attorneys today by calling 410-690-8128. We’ll help you draft your life planning documents at no cost!
URL:https://shorelegal.org/event/lower-shore-life-planning-clinic-mac-center/2028-06-06/
LOCATION:MAC Inc. Center\, 909 Progress Circle\, Salisbury\, MD\, 21804\, United States
CATEGORIES:Life Planning Clinics
END:VEVENT
BEGIN:VEVENT
DTSTART;TZID=America/New_York:20280608T100000
DTEND;TZID=America/New_York:20280608T130000
DTSTAMP:20260421T153002
CREATED:20240821T230457Z
LAST-MODIFIED:20240821T230457Z
UID:10004185-1844071200-1844082000@shorelegal.org
SUMMARY:Caroline County Life & Estate Planning Clinic
DESCRIPTION:BY APPOINTMENT ONLY\nDo you need a will\, financial power of attorney\, or advance medical directive? Call us at 410-690-8128 to make an appointment for a consultation with our attorneys\, who will draft your life planning documents for FREE!  
URL:https://shorelegal.org/event/caroline-county-life-estate-planning-clinic/2028-06-08/
LOCATION:Caroline County Public Library\, 100 Market Street\, Denton\, MD\, 21629\, United States
CATEGORIES:Life Planning Clinics
END:VEVENT
BEGIN:VEVENT
DTSTART;TZID=America/New_York:20280620T100000
DTEND;TZID=America/New_York:20280620T120000
DTSTAMP:20260421T153002
CREATED:20240821T231128Z
LAST-MODIFIED:20240821T231128Z
UID:10004245-1845108000-1845115200@shorelegal.org
SUMMARY:Queen Anne's County Life & Estate Planning Clinic
DESCRIPTION:BY APPOINTMENT ONLY\nDo you need a will\, financial power of attorney\, or advance medical directive? Schedule your free consultation with our volunteer attorneys today by calling 410-690-8128. We’ll help you draft your life planning documents at no cost!
URL:https://shorelegal.org/event/queen-annes-county-life-estate-planning-clinic/2028-06-20/
LOCATION:Kramer Senior Center\, 104 Powell Street\, Centreville\, MD\, 21617\, United States
CATEGORIES:Life Planning Clinics
END:VEVENT
BEGIN:VEVENT
DTSTART;TZID=America/New_York:20280622T100000
DTEND;TZID=America/New_York:20280622T120000
DTSTAMP:20260421T153002
CREATED:20240821T232013Z
LAST-MODIFIED:20240821T232013Z
UID:10004367-1845280800-1845288000@shorelegal.org
SUMMARY:Talbot County Life & Estate Planning Clinic
DESCRIPTION:BY APPOINTMENT ONLY\nDo you need a will\, financial power of attorney\, or advance medical directive? Schedule your free consultation with our volunteer attorneys today by calling 410-690-8128. We’ll help you draft your life planning documents at no cost!
URL:https://shorelegal.org/event/talbot-county-life-estate-planning-clinic/2028-06-22/
LOCATION:Brookletts Place Senior Center\, 400 Brookletts Avenue\, Easton\, MD\, 21601\, United States
CATEGORIES:Life Planning Clinics
END:VEVENT
BEGIN:VEVENT
DTSTART;TZID=America/New_York:20280628T100000
DTEND;TZID=America/New_York:20280628T130000
DTSTAMP:20260421T153002
CREATED:20240912T183007Z
LAST-MODIFIED:20240912T183435Z
UID:10004306-1845799200-1845810000@shorelegal.org
SUMMARY:Dorchester County Life & Estate Planning Clinic
DESCRIPTION:BY APPOINTMENT ONLY\nDo you need a will\, financial power of attorney\, or advance medical directive? Schedule your free consultation with our volunteer attorneys today by calling 410-690-8128. We’ll help you draft your life planning documents at no cost!
URL:https://shorelegal.org/event/dorchester-county-life-estate-planning-clinic-2/2028-06-28/
LOCATION:Dorchester County Public Library – Cambridge\, 303 Gay Street\, Cambridge\, 21613\, United States
CATEGORIES:Life Planning Clinics
END:VEVENT
BEGIN:VEVENT
DTSTART;TZID=America/New_York:20280704T110000
DTEND;TZID=America/New_York:20280704T140000
DTSTAMP:20260421T153002
CREATED:20250429T134125Z
LAST-MODIFIED:20250429T161323Z
UID:10005074-1846321200-1846332000@shorelegal.org
SUMMARY:Lower Shore Life Planning Clinic - MAC Center
DESCRIPTION:BY APPOINTMENT ONLY:  Do you need a will\, financial power of attorney\, or advance medical directive? \nSchedule your free consultation with our volunteer attorneys today by calling 410-690-8128. We’ll help you draft your life planning documents at no cost!
URL:https://shorelegal.org/event/lower-shore-life-planning-clinic-mac-center/2028-07-04/
LOCATION:MAC Inc. Center\, 909 Progress Circle\, Salisbury\, MD\, 21804\, United States
CATEGORIES:Life Planning Clinics
END:VEVENT
BEGIN:VEVENT
DTSTART;TZID=America/New_York:20280706T100000
DTEND;TZID=America/New_York:20280706T130000
DTSTAMP:20260421T153002
CREATED:20240903T171949Z
LAST-MODIFIED:20240919T142605Z
UID:10004994-1846490400-1846501200@shorelegal.org
SUMMARY:Kent County Life & Estate Planning Clinic
DESCRIPTION:BY APPOINTMENT ONLY\nDo you need a will\, financial power of attorney\, or advance medical directive? Schedule your free consultation with our volunteer attorneys today by calling 410-690-8128. We’ll help you draft your life planning documents at no cost!
URL:https://shorelegal.org/event/kent-county-life-estate-planning-clinic-2/2028-07-06/
LOCATION:Kent County Public Library\, 408 High Street\, Chestertown\, 21620\, United States
CATEGORIES:Life Planning Clinics
END:VEVENT
BEGIN:VEVENT
DTSTART;TZID=America/New_York:20280713T100000
DTEND;TZID=America/New_York:20280713T130000
DTSTAMP:20260421T153002
CREATED:20240821T230457Z
LAST-MODIFIED:20240821T230457Z
UID:10004186-1847095200-1847106000@shorelegal.org
SUMMARY:Caroline County Life & Estate Planning Clinic
DESCRIPTION:BY APPOINTMENT ONLY\nDo you need a will\, financial power of attorney\, or advance medical directive? Call us at 410-690-8128 to make an appointment for a consultation with our attorneys\, who will draft your life planning documents for FREE!  
URL:https://shorelegal.org/event/caroline-county-life-estate-planning-clinic/2028-07-13/
LOCATION:Caroline County Public Library\, 100 Market Street\, Denton\, MD\, 21629\, United States
CATEGORIES:Life Planning Clinics
END:VEVENT
BEGIN:VEVENT
DTSTART;TZID=America/New_York:20280718T100000
DTEND;TZID=America/New_York:20280718T120000
DTSTAMP:20260421T153002
CREATED:20240821T231128Z
LAST-MODIFIED:20240821T231128Z
UID:10004246-1847527200-1847534400@shorelegal.org
SUMMARY:Queen Anne's County Life & Estate Planning Clinic
DESCRIPTION:BY APPOINTMENT ONLY\nDo you need a will\, financial power of attorney\, or advance medical directive? Schedule your free consultation with our volunteer attorneys today by calling 410-690-8128. We’ll help you draft your life planning documents at no cost!
URL:https://shorelegal.org/event/queen-annes-county-life-estate-planning-clinic/2028-07-18/
LOCATION:Kramer Senior Center\, 104 Powell Street\, Centreville\, MD\, 21617\, United States
CATEGORIES:Life Planning Clinics
END:VEVENT
BEGIN:VEVENT
DTSTART;TZID=America/New_York:20280726T100000
DTEND;TZID=America/New_York:20280726T130000
DTSTAMP:20260421T153002
CREATED:20240912T183007Z
LAST-MODIFIED:20240912T183435Z
UID:10004307-1848218400-1848229200@shorelegal.org
SUMMARY:Dorchester County Life & Estate Planning Clinic
DESCRIPTION:BY APPOINTMENT ONLY\nDo you need a will\, financial power of attorney\, or advance medical directive? Schedule your free consultation with our volunteer attorneys today by calling 410-690-8128. We’ll help you draft your life planning documents at no cost!
URL:https://shorelegal.org/event/dorchester-county-life-estate-planning-clinic-2/2028-07-26/
LOCATION:Dorchester County Public Library – Cambridge\, 303 Gay Street\, Cambridge\, 21613\, United States
CATEGORIES:Life Planning Clinics
END:VEVENT
BEGIN:VEVENT
DTSTART;TZID=America/New_York:20280727T100000
DTEND;TZID=America/New_York:20280727T120000
DTSTAMP:20260421T153002
CREATED:20240821T232013Z
LAST-MODIFIED:20240821T232013Z
UID:10004368-1848304800-1848312000@shorelegal.org
SUMMARY:Talbot County Life & Estate Planning Clinic
DESCRIPTION:BY APPOINTMENT ONLY\nDo you need a will\, financial power of attorney\, or advance medical directive? Schedule your free consultation with our volunteer attorneys today by calling 410-690-8128. We’ll help you draft your life planning documents at no cost!
URL:https://shorelegal.org/event/talbot-county-life-estate-planning-clinic/2028-07-27/
LOCATION:Brookletts Place Senior Center\, 400 Brookletts Avenue\, Easton\, MD\, 21601\, United States
CATEGORIES:Life Planning Clinics
END:VEVENT
END:VCALENDAR