BEGIN:VCALENDAR
VERSION:2.0
PRODID:-//Shore Legal Access - ECPv6.15.20//NONSGML v1.0//EN
CALSCALE:GREGORIAN
METHOD:PUBLISH
X-WR-CALNAME:Shore Legal Access
X-ORIGINAL-URL:https://shorelegal.org
X-WR-CALDESC:Events for Shore Legal Access
REFRESH-INTERVAL;VALUE=DURATION:PT1H
X-Robots-Tag:noindex
X-PUBLISHED-TTL:PT1H
BEGIN:VTIMEZONE
TZID:America/New_York
BEGIN:DAYLIGHT
TZOFFSETFROM:-0500
TZOFFSETTO:-0400
TZNAME:EDT
DTSTART:20300310T070000
END:DAYLIGHT
BEGIN:STANDARD
TZOFFSETFROM:-0400
TZOFFSETTO:-0500
TZNAME:EST
DTSTART:20301103T060000
END:STANDARD
BEGIN:DAYLIGHT
TZOFFSETFROM:-0500
TZOFFSETTO:-0400
TZNAME:EDT
DTSTART:20310309T070000
END:DAYLIGHT
BEGIN:STANDARD
TZOFFSETFROM:-0400
TZOFFSETTO:-0500
TZNAME:EST
DTSTART:20311102T060000
END:STANDARD
BEGIN:DAYLIGHT
TZOFFSETFROM:-0500
TZOFFSETTO:-0400
TZNAME:EDT
DTSTART:20320314T070000
END:DAYLIGHT
BEGIN:STANDARD
TZOFFSETFROM:-0400
TZOFFSETTO:-0500
TZNAME:EST
DTSTART:20321107T060000
END:STANDARD
END:VTIMEZONE
BEGIN:VEVENT
DTSTART;TZID=America/New_York:20310114T133000
DTEND;TZID=America/New_York:20310114T143000
DTSTAMP:20260420T035106
CREATED:20251119T205052Z
LAST-MODIFIED:20251119T205052Z
UID:10005372-1926163800-1926167400@shorelegal.org
SUMMARY:Diakonia Legal Intakes
DESCRIPTION:Join Shore Legal Access at Diakonia from 1:30pm-2:30pm on the second Tuesday of each month! Meet a member of our team\, complete a free legal intake\, and get connected with an attorney who can help. We provide free civil legal assistance for criminal record expungements\, life-planning documents (wills\, powers of attorney\, advance directives)\, family law\, housing\, consumer debt\, and other civil legal needs for clients who are financially eligible.
URL:https://shorelegal.org/event/diakonia-legal-intakes/2031-01-14/
LOCATION:Diakonia\, 12747 Old Bridge Road\, Ocean City\, MD\, 21842\, United States
CATEGORIES:Outreach Event
ATTACH;FMTTYPE=image/jpeg:https://shorelegal.org/wp-content/uploads/2025/11/Diakonia-Flyer.jpg
END:VEVENT
BEGIN:VEVENT
DTSTART;TZID=America/New_York:20310204T110000
DTEND;TZID=America/New_York:20310204T140000
DTSTAMP:20260420T035106
CREATED:20250429T134125Z
LAST-MODIFIED:20250429T161323Z
UID:10005370-1927969200-1927980000@shorelegal.org
SUMMARY:Lower Shore Life Planning Clinic - MAC Center
DESCRIPTION:BY APPOINTMENT ONLY:  Do you need a will\, financial power of attorney\, or advance medical directive? \nSchedule your free consultation with our volunteer attorneys today by calling 410-690-8128. We’ll help you draft your life planning documents at no cost!
URL:https://shorelegal.org/event/lower-shore-life-planning-clinic-mac-center/2031-02-04/
LOCATION:MAC Inc. Center\, 909 Progress Circle\, Salisbury\, MD\, 21804\, United States
CATEGORIES:Life Planning Clinics
END:VEVENT
BEGIN:VEVENT
DTSTART;TZID=America/New_York:20310205T113000
DTEND;TZID=America/New_York:20310205T130000
DTSTAMP:20260420T035106
CREATED:20251119T205656Z
LAST-MODIFIED:20251119T205656Z
UID:10005371-1928057400-1928062800@shorelegal.org
SUMMARY:Recovery Resource Center Legal Intakes
DESCRIPTION:Join Shore Legal Access at the Recovery Resource Center from 11:30am-1:30pm on the first Wednesday of each month! Meet a member of our team\, complete a free legal intake\, and get connected with an attorney who can help. We provide free civil legal assistance for criminal record expungements\, life-planning documents (wills\, powers of attorney\, advance directives)\, family law\, housing\, consumer debt\, and other civil legal needs for clients who are financially eligible.
URL:https://shorelegal.org/event/recovery-resource-center-legal-intakes/2031-02-05/
LOCATION:Recovery Resource Center\, 726 S. Salisbury Blvd.\, Salisbury\, MD\, 21801\, United States
CATEGORIES:Outreach Event
ATTACH;FMTTYPE=image/jpeg:https://shorelegal.org/wp-content/uploads/2025/11/RRC-Expungement-Events.jpg
END:VEVENT
BEGIN:VEVENT
DTSTART;TZID=America/New_York:20310211T133000
DTEND;TZID=America/New_York:20310211T143000
DTSTAMP:20260420T035106
CREATED:20251119T205052Z
LAST-MODIFIED:20251119T205052Z
UID:10005373-1928583000-1928586600@shorelegal.org
SUMMARY:Diakonia Legal Intakes
DESCRIPTION:Join Shore Legal Access at Diakonia from 1:30pm-2:30pm on the second Tuesday of each month! Meet a member of our team\, complete a free legal intake\, and get connected with an attorney who can help. We provide free civil legal assistance for criminal record expungements\, life-planning documents (wills\, powers of attorney\, advance directives)\, family law\, housing\, consumer debt\, and other civil legal needs for clients who are financially eligible.
URL:https://shorelegal.org/event/diakonia-legal-intakes/2031-02-11/
LOCATION:Diakonia\, 12747 Old Bridge Road\, Ocean City\, MD\, 21842\, United States
CATEGORIES:Outreach Event
ATTACH;FMTTYPE=image/jpeg:https://shorelegal.org/wp-content/uploads/2025/11/Diakonia-Flyer.jpg
END:VEVENT
BEGIN:VEVENT
DTSTART;TZID=America/New_York:20310212T100000
DTEND;TZID=America/New_York:20310212T120000
DTSTAMP:20260420T035106
CREATED:20251119T210512Z
LAST-MODIFIED:20251119T210512Z
UID:10005374-1928656800-1928664000@shorelegal.org
SUMMARY:H.O.P.E. Legal Intakes
DESCRIPTION:Join Shore Legal Access at the HOPE from 10:00am-12:00pm on the second Wednesday of each month! Meet a member of our team\, complete a free legal intake\, and get connected with an attorney who can help. We provide free civil legal assistance for criminal record expungements\, life-planning documents (wills\, powers of attorney\, advance directives)\, family law\, housing\, consumer debt\, and other civil legal needs for clients who are financially eligible.
URL:https://shorelegal.org/event/h-o-p-e-legal-intakes/2031-02-12/
LOCATION:HOPE Inc.\, 129 Broad Street\, Salisbury\, MD\, 21801\, United States
CATEGORIES:Outreach Event
ATTACH;FMTTYPE=image/jpeg:https://shorelegal.org/wp-content/uploads/2025/11/HOPE-Intake-Flyer.jpg
END:VEVENT
BEGIN:VEVENT
DTSTART;TZID=America/New_York:20310212T130000
DTEND;TZID=America/New_York:20310212T150000
DTSTAMP:20260420T035106
CREATED:20251119T210039Z
LAST-MODIFIED:20251119T210039Z
UID:10005375-1928667600-1928674800@shorelegal.org
SUMMARY:Adopt-A-Block Legal Intakes
DESCRIPTION:Join Shore Legal Access at Adopt-A-Block from 1:00pm-3:00pm on the second Wednesday of each month! Meet a member of our team\, complete a free legal intake\, and get connected with an attorney who can help. We provide free civil legal assistance for criminal record expungements\, life-planning documents (wills\, powers of attorney\, advance directives)\, family law\, housing\, consumer debt\, and other civil legal needs for clients who are financially eligible.
URL:https://shorelegal.org/event/adopt-a-block-legal-intakes/2031-02-12/
LOCATION:Adopt-A-Block\, 129 Broad Street\, Salisbury\, MD\, 21801\, United States
CATEGORIES:Outreach Event
ATTACH;FMTTYPE=image/jpeg:https://shorelegal.org/wp-content/uploads/2025/11/AAB-Intake-Flyer.jpg
END:VEVENT
BEGIN:VEVENT
DTSTART;TZID=America/New_York:20310304T110000
DTEND;TZID=America/New_York:20310304T140000
DTSTAMP:20260420T035106
CREATED:20250429T134125Z
LAST-MODIFIED:20250429T161323Z
UID:10005376-1930388400-1930399200@shorelegal.org
SUMMARY:Lower Shore Life Planning Clinic - MAC Center
DESCRIPTION:BY APPOINTMENT ONLY:  Do you need a will\, financial power of attorney\, or advance medical directive? \nSchedule your free consultation with our volunteer attorneys today by calling 410-690-8128. We’ll help you draft your life planning documents at no cost!
URL:https://shorelegal.org/event/lower-shore-life-planning-clinic-mac-center/2031-03-04/
LOCATION:MAC Inc. Center\, 909 Progress Circle\, Salisbury\, MD\, 21804\, United States
CATEGORIES:Life Planning Clinics
END:VEVENT
BEGIN:VEVENT
DTSTART;TZID=America/New_York:20310305T113000
DTEND;TZID=America/New_York:20310305T130000
DTSTAMP:20260420T035106
CREATED:20251119T205656Z
LAST-MODIFIED:20251119T205656Z
UID:10005377-1930476600-1930482000@shorelegal.org
SUMMARY:Recovery Resource Center Legal Intakes
DESCRIPTION:Join Shore Legal Access at the Recovery Resource Center from 11:30am-1:30pm on the first Wednesday of each month! Meet a member of our team\, complete a free legal intake\, and get connected with an attorney who can help. We provide free civil legal assistance for criminal record expungements\, life-planning documents (wills\, powers of attorney\, advance directives)\, family law\, housing\, consumer debt\, and other civil legal needs for clients who are financially eligible.
URL:https://shorelegal.org/event/recovery-resource-center-legal-intakes/2031-03-05/
LOCATION:Recovery Resource Center\, 726 S. Salisbury Blvd.\, Salisbury\, MD\, 21801\, United States
CATEGORIES:Outreach Event
ATTACH;FMTTYPE=image/jpeg:https://shorelegal.org/wp-content/uploads/2025/11/RRC-Expungement-Events.jpg
END:VEVENT
BEGIN:VEVENT
DTSTART;TZID=America/New_York:20310311T133000
DTEND;TZID=America/New_York:20310311T143000
DTSTAMP:20260420T035106
CREATED:20251119T205052Z
LAST-MODIFIED:20251119T205052Z
UID:10005380-1931002200-1931005800@shorelegal.org
SUMMARY:Diakonia Legal Intakes
DESCRIPTION:Join Shore Legal Access at Diakonia from 1:30pm-2:30pm on the second Tuesday of each month! Meet a member of our team\, complete a free legal intake\, and get connected with an attorney who can help. We provide free civil legal assistance for criminal record expungements\, life-planning documents (wills\, powers of attorney\, advance directives)\, family law\, housing\, consumer debt\, and other civil legal needs for clients who are financially eligible.
URL:https://shorelegal.org/event/diakonia-legal-intakes/2031-03-11/
LOCATION:Diakonia\, 12747 Old Bridge Road\, Ocean City\, MD\, 21842\, United States
CATEGORIES:Outreach Event
ATTACH;FMTTYPE=image/jpeg:https://shorelegal.org/wp-content/uploads/2025/11/Diakonia-Flyer.jpg
END:VEVENT
BEGIN:VEVENT
DTSTART;TZID=America/New_York:20310312T100000
DTEND;TZID=America/New_York:20310312T120000
DTSTAMP:20260420T035106
CREATED:20251119T210512Z
LAST-MODIFIED:20251119T210512Z
UID:10005381-1931076000-1931083200@shorelegal.org
SUMMARY:H.O.P.E. Legal Intakes
DESCRIPTION:Join Shore Legal Access at the HOPE from 10:00am-12:00pm on the second Wednesday of each month! Meet a member of our team\, complete a free legal intake\, and get connected with an attorney who can help. We provide free civil legal assistance for criminal record expungements\, life-planning documents (wills\, powers of attorney\, advance directives)\, family law\, housing\, consumer debt\, and other civil legal needs for clients who are financially eligible.
URL:https://shorelegal.org/event/h-o-p-e-legal-intakes/2031-03-12/
LOCATION:HOPE Inc.\, 129 Broad Street\, Salisbury\, MD\, 21801\, United States
CATEGORIES:Outreach Event
ATTACH;FMTTYPE=image/jpeg:https://shorelegal.org/wp-content/uploads/2025/11/HOPE-Intake-Flyer.jpg
END:VEVENT
BEGIN:VEVENT
DTSTART;TZID=America/New_York:20310312T130000
DTEND;TZID=America/New_York:20310312T150000
DTSTAMP:20260420T035106
CREATED:20251119T210039Z
LAST-MODIFIED:20251119T210039Z
UID:10005382-1931086800-1931094000@shorelegal.org
SUMMARY:Adopt-A-Block Legal Intakes
DESCRIPTION:Join Shore Legal Access at Adopt-A-Block from 1:00pm-3:00pm on the second Wednesday of each month! Meet a member of our team\, complete a free legal intake\, and get connected with an attorney who can help. We provide free civil legal assistance for criminal record expungements\, life-planning documents (wills\, powers of attorney\, advance directives)\, family law\, housing\, consumer debt\, and other civil legal needs for clients who are financially eligible.
URL:https://shorelegal.org/event/adopt-a-block-legal-intakes/2031-03-12/
LOCATION:Adopt-A-Block\, 129 Broad Street\, Salisbury\, MD\, 21801\, United States
CATEGORIES:Outreach Event
ATTACH;FMTTYPE=image/jpeg:https://shorelegal.org/wp-content/uploads/2025/11/AAB-Intake-Flyer.jpg
END:VEVENT
BEGIN:VEVENT
DTSTART;TZID=America/New_York:20310401T110000
DTEND;TZID=America/New_York:20310401T140000
DTSTAMP:20260420T035106
CREATED:20250429T134125Z
LAST-MODIFIED:20250429T161323Z
UID:10005386-1932807600-1932818400@shorelegal.org
SUMMARY:Lower Shore Life Planning Clinic - MAC Center
DESCRIPTION:BY APPOINTMENT ONLY:  Do you need a will\, financial power of attorney\, or advance medical directive? \nSchedule your free consultation with our volunteer attorneys today by calling 410-690-8128. We’ll help you draft your life planning documents at no cost!
URL:https://shorelegal.org/event/lower-shore-life-planning-clinic-mac-center/2031-04-01/
LOCATION:MAC Inc. Center\, 909 Progress Circle\, Salisbury\, MD\, 21804\, United States
CATEGORIES:Life Planning Clinics
END:VEVENT
BEGIN:VEVENT
DTSTART;TZID=America/New_York:20310402T113000
DTEND;TZID=America/New_York:20310402T130000
DTSTAMP:20260420T035106
CREATED:20251119T205656Z
LAST-MODIFIED:20251119T205656Z
UID:10005387-1932895800-1932901200@shorelegal.org
SUMMARY:Recovery Resource Center Legal Intakes
DESCRIPTION:Join Shore Legal Access at the Recovery Resource Center from 11:30am-1:30pm on the first Wednesday of each month! Meet a member of our team\, complete a free legal intake\, and get connected with an attorney who can help. We provide free civil legal assistance for criminal record expungements\, life-planning documents (wills\, powers of attorney\, advance directives)\, family law\, housing\, consumer debt\, and other civil legal needs for clients who are financially eligible.
URL:https://shorelegal.org/event/recovery-resource-center-legal-intakes/2031-04-02/
LOCATION:Recovery Resource Center\, 726 S. Salisbury Blvd.\, Salisbury\, MD\, 21801\, United States
CATEGORIES:Outreach Event
ATTACH;FMTTYPE=image/jpeg:https://shorelegal.org/wp-content/uploads/2025/11/RRC-Expungement-Events.jpg
END:VEVENT
BEGIN:VEVENT
DTSTART;TZID=America/New_York:20310408T133000
DTEND;TZID=America/New_York:20310408T143000
DTSTAMP:20260420T035106
CREATED:20251119T205052Z
LAST-MODIFIED:20251119T205052Z
UID:10005388-1933421400-1933425000@shorelegal.org
SUMMARY:Diakonia Legal Intakes
DESCRIPTION:Join Shore Legal Access at Diakonia from 1:30pm-2:30pm on the second Tuesday of each month! Meet a member of our team\, complete a free legal intake\, and get connected with an attorney who can help. We provide free civil legal assistance for criminal record expungements\, life-planning documents (wills\, powers of attorney\, advance directives)\, family law\, housing\, consumer debt\, and other civil legal needs for clients who are financially eligible.
URL:https://shorelegal.org/event/diakonia-legal-intakes/2031-04-08/
LOCATION:Diakonia\, 12747 Old Bridge Road\, Ocean City\, MD\, 21842\, United States
CATEGORIES:Outreach Event
ATTACH;FMTTYPE=image/jpeg:https://shorelegal.org/wp-content/uploads/2025/11/Diakonia-Flyer.jpg
END:VEVENT
BEGIN:VEVENT
DTSTART;TZID=America/New_York:20310409T100000
DTEND;TZID=America/New_York:20310409T120000
DTSTAMP:20260420T035106
CREATED:20251119T210512Z
LAST-MODIFIED:20251119T210512Z
UID:10005389-1933495200-1933502400@shorelegal.org
SUMMARY:H.O.P.E. Legal Intakes
DESCRIPTION:Join Shore Legal Access at the HOPE from 10:00am-12:00pm on the second Wednesday of each month! Meet a member of our team\, complete a free legal intake\, and get connected with an attorney who can help. We provide free civil legal assistance for criminal record expungements\, life-planning documents (wills\, powers of attorney\, advance directives)\, family law\, housing\, consumer debt\, and other civil legal needs for clients who are financially eligible.
URL:https://shorelegal.org/event/h-o-p-e-legal-intakes/2031-04-09/
LOCATION:HOPE Inc.\, 129 Broad Street\, Salisbury\, MD\, 21801\, United States
CATEGORIES:Outreach Event
ATTACH;FMTTYPE=image/jpeg:https://shorelegal.org/wp-content/uploads/2025/11/HOPE-Intake-Flyer.jpg
END:VEVENT
BEGIN:VEVENT
DTSTART;TZID=America/New_York:20310409T130000
DTEND;TZID=America/New_York:20310409T150000
DTSTAMP:20260420T035107
CREATED:20251119T210039Z
LAST-MODIFIED:20251119T210039Z
UID:10005390-1933506000-1933513200@shorelegal.org
SUMMARY:Adopt-A-Block Legal Intakes
DESCRIPTION:Join Shore Legal Access at Adopt-A-Block from 1:00pm-3:00pm on the second Wednesday of each month! Meet a member of our team\, complete a free legal intake\, and get connected with an attorney who can help. We provide free civil legal assistance for criminal record expungements\, life-planning documents (wills\, powers of attorney\, advance directives)\, family law\, housing\, consumer debt\, and other civil legal needs for clients who are financially eligible.
URL:https://shorelegal.org/event/adopt-a-block-legal-intakes/2031-04-09/
LOCATION:Adopt-A-Block\, 129 Broad Street\, Salisbury\, MD\, 21801\, United States
CATEGORIES:Outreach Event
ATTACH;FMTTYPE=image/jpeg:https://shorelegal.org/wp-content/uploads/2025/11/AAB-Intake-Flyer.jpg
END:VEVENT
END:VCALENDAR