BEGIN:VCALENDAR
VERSION:2.0
PRODID:-//Shore Legal Access - ECPv6.15.20//NONSGML v1.0//EN
CALSCALE:GREGORIAN
METHOD:PUBLISH
X-ORIGINAL-URL:https://shorelegal.org
X-WR-CALDESC:Events for Shore Legal Access
REFRESH-INTERVAL;VALUE=DURATION:PT1H
X-Robots-Tag:noindex
X-PUBLISHED-TTL:PT1H
BEGIN:VTIMEZONE
TZID:America/New_York
BEGIN:DAYLIGHT
TZOFFSETFROM:-0500
TZOFFSETTO:-0400
TZNAME:EDT
DTSTART:20260308T070000
END:DAYLIGHT
BEGIN:STANDARD
TZOFFSETFROM:-0400
TZOFFSETTO:-0500
TZNAME:EST
DTSTART:20261101T060000
END:STANDARD
BEGIN:DAYLIGHT
TZOFFSETFROM:-0500
TZOFFSETTO:-0400
TZNAME:EDT
DTSTART:20270314T070000
END:DAYLIGHT
BEGIN:STANDARD
TZOFFSETFROM:-0400
TZOFFSETTO:-0500
TZNAME:EST
DTSTART:20271107T060000
END:STANDARD
BEGIN:DAYLIGHT
TZOFFSETFROM:-0500
TZOFFSETTO:-0400
TZNAME:EDT
DTSTART:20280312T070000
END:DAYLIGHT
BEGIN:STANDARD
TZOFFSETFROM:-0400
TZOFFSETTO:-0500
TZNAME:EST
DTSTART:20281105T060000
END:STANDARD
BEGIN:DAYLIGHT
TZOFFSETFROM:-0500
TZOFFSETTO:-0400
TZNAME:EDT
DTSTART:20290311T070000
END:DAYLIGHT
BEGIN:STANDARD
TZOFFSETFROM:-0400
TZOFFSETTO:-0500
TZNAME:EST
DTSTART:20291104T060000
END:STANDARD
BEGIN:DAYLIGHT
TZOFFSETFROM:-0500
TZOFFSETTO:-0400
TZNAME:EDT
DTSTART:20300310T070000
END:DAYLIGHT
BEGIN:STANDARD
TZOFFSETFROM:-0400
TZOFFSETTO:-0500
TZNAME:EST
DTSTART:20301103T060000
END:STANDARD
END:VTIMEZONE
BEGIN:VEVENT
DTSTART;TZID=America/New_York:20270506T100000
DTEND;TZID=America/New_York:20270506T130000
DTSTAMP:20260420T042525
CREATED:20240903T171949Z
LAST-MODIFIED:20240919T142605Z
UID:10004980-1809597600-1809608400@shorelegal.org
SUMMARY:Kent County Life & Estate Planning Clinic
DESCRIPTION:BY APPOINTMENT ONLY\nDo you need a will\, financial power of attorney\, or advance medical directive? Schedule your free consultation with our volunteer attorneys today by calling 410-690-8128. We’ll help you draft your life planning documents at no cost!
URL:https://shorelegal.org/event/kent-county-life-estate-planning-clinic-2/2027-05-06/
LOCATION:Kent County Public Library\, 408 High Street\, Chestertown\, 21620\, United States
CATEGORIES:Life Planning Clinics
END:VEVENT
BEGIN:VEVENT
DTSTART;TZID=America/New_York:20270603T100000
DTEND;TZID=America/New_York:20270603T130000
DTSTAMP:20260420T042525
CREATED:20240903T171949Z
LAST-MODIFIED:20240919T142605Z
UID:10004981-1812016800-1812027600@shorelegal.org
SUMMARY:Kent County Life & Estate Planning Clinic
DESCRIPTION:BY APPOINTMENT ONLY\nDo you need a will\, financial power of attorney\, or advance medical directive? Schedule your free consultation with our volunteer attorneys today by calling 410-690-8128. We’ll help you draft your life planning documents at no cost!
URL:https://shorelegal.org/event/kent-county-life-estate-planning-clinic-2/2027-06-03/
LOCATION:Kent County Public Library\, 408 High Street\, Chestertown\, 21620\, United States
CATEGORIES:Life Planning Clinics
END:VEVENT
BEGIN:VEVENT
DTSTART;TZID=America/New_York:20270701T100000
DTEND;TZID=America/New_York:20270701T130000
DTSTAMP:20260420T042525
CREATED:20240903T171949Z
LAST-MODIFIED:20240919T142605Z
UID:10004982-1814436000-1814446800@shorelegal.org
SUMMARY:Kent County Life & Estate Planning Clinic
DESCRIPTION:BY APPOINTMENT ONLY\nDo you need a will\, financial power of attorney\, or advance medical directive? Schedule your free consultation with our volunteer attorneys today by calling 410-690-8128. We’ll help you draft your life planning documents at no cost!
URL:https://shorelegal.org/event/kent-county-life-estate-planning-clinic-2/2027-07-01/
LOCATION:Kent County Public Library\, 408 High Street\, Chestertown\, 21620\, United States
CATEGORIES:Life Planning Clinics
END:VEVENT
BEGIN:VEVENT
DTSTART;TZID=America/New_York:20270805T100000
DTEND;TZID=America/New_York:20270805T130000
DTSTAMP:20260420T042525
CREATED:20240903T171949Z
LAST-MODIFIED:20240919T142605Z
UID:10004983-1817460000-1817470800@shorelegal.org
SUMMARY:Kent County Life & Estate Planning Clinic
DESCRIPTION:BY APPOINTMENT ONLY\nDo you need a will\, financial power of attorney\, or advance medical directive? Schedule your free consultation with our volunteer attorneys today by calling 410-690-8128. We’ll help you draft your life planning documents at no cost!
URL:https://shorelegal.org/event/kent-county-life-estate-planning-clinic-2/2027-08-05/
LOCATION:Kent County Public Library\, 408 High Street\, Chestertown\, 21620\, United States
CATEGORIES:Life Planning Clinics
END:VEVENT
BEGIN:VEVENT
DTSTART;TZID=America/New_York:20270902T100000
DTEND;TZID=America/New_York:20270902T130000
DTSTAMP:20260420T042525
CREATED:20240903T171949Z
LAST-MODIFIED:20240919T142605Z
UID:10004984-1819879200-1819890000@shorelegal.org
SUMMARY:Kent County Life & Estate Planning Clinic
DESCRIPTION:BY APPOINTMENT ONLY\nDo you need a will\, financial power of attorney\, or advance medical directive? Schedule your free consultation with our volunteer attorneys today by calling 410-690-8128. We’ll help you draft your life planning documents at no cost!
URL:https://shorelegal.org/event/kent-county-life-estate-planning-clinic-2/2027-09-02/
LOCATION:Kent County Public Library\, 408 High Street\, Chestertown\, 21620\, United States
CATEGORIES:Life Planning Clinics
END:VEVENT
BEGIN:VEVENT
DTSTART;TZID=America/New_York:20271007T100000
DTEND;TZID=America/New_York:20271007T130000
DTSTAMP:20260420T042525
CREATED:20240903T171949Z
LAST-MODIFIED:20240919T142605Z
UID:10004985-1822903200-1822914000@shorelegal.org
SUMMARY:Kent County Life & Estate Planning Clinic
DESCRIPTION:BY APPOINTMENT ONLY\nDo you need a will\, financial power of attorney\, or advance medical directive? Schedule your free consultation with our volunteer attorneys today by calling 410-690-8128. We’ll help you draft your life planning documents at no cost!
URL:https://shorelegal.org/event/kent-county-life-estate-planning-clinic-2/2027-10-07/
LOCATION:Kent County Public Library\, 408 High Street\, Chestertown\, 21620\, United States
CATEGORIES:Life Planning Clinics
END:VEVENT
BEGIN:VEVENT
DTSTART;TZID=America/New_York:20271104T100000
DTEND;TZID=America/New_York:20271104T130000
DTSTAMP:20260420T042525
CREATED:20240903T171949Z
LAST-MODIFIED:20240919T142605Z
UID:10004986-1825322400-1825333200@shorelegal.org
SUMMARY:Kent County Life & Estate Planning Clinic
DESCRIPTION:BY APPOINTMENT ONLY\nDo you need a will\, financial power of attorney\, or advance medical directive? Schedule your free consultation with our volunteer attorneys today by calling 410-690-8128. We’ll help you draft your life planning documents at no cost!
URL:https://shorelegal.org/event/kent-county-life-estate-planning-clinic-2/2027-11-04/
LOCATION:Kent County Public Library\, 408 High Street\, Chestertown\, 21620\, United States
CATEGORIES:Life Planning Clinics
END:VEVENT
BEGIN:VEVENT
DTSTART;TZID=America/New_York:20271202T100000
DTEND;TZID=America/New_York:20271202T130000
DTSTAMP:20260420T042525
CREATED:20240903T171949Z
LAST-MODIFIED:20240919T142605Z
UID:10004987-1827741600-1827752400@shorelegal.org
SUMMARY:Kent County Life & Estate Planning Clinic
DESCRIPTION:BY APPOINTMENT ONLY\nDo you need a will\, financial power of attorney\, or advance medical directive? Schedule your free consultation with our volunteer attorneys today by calling 410-690-8128. We’ll help you draft your life planning documents at no cost!
URL:https://shorelegal.org/event/kent-county-life-estate-planning-clinic-2/2027-12-02/
LOCATION:Kent County Public Library\, 408 High Street\, Chestertown\, 21620\, United States
CATEGORIES:Life Planning Clinics
END:VEVENT
BEGIN:VEVENT
DTSTART;TZID=America/New_York:20280106T100000
DTEND;TZID=America/New_York:20280106T130000
DTSTAMP:20260420T042525
CREATED:20240903T171949Z
LAST-MODIFIED:20240919T142605Z
UID:10004988-1830765600-1830776400@shorelegal.org
SUMMARY:Kent County Life & Estate Planning Clinic
DESCRIPTION:BY APPOINTMENT ONLY\nDo you need a will\, financial power of attorney\, or advance medical directive? Schedule your free consultation with our volunteer attorneys today by calling 410-690-8128. We’ll help you draft your life planning documents at no cost!
URL:https://shorelegal.org/event/kent-county-life-estate-planning-clinic-2/2028-01-06/
LOCATION:Kent County Public Library\, 408 High Street\, Chestertown\, 21620\, United States
CATEGORIES:Life Planning Clinics
END:VEVENT
BEGIN:VEVENT
DTSTART;TZID=America/New_York:20280203T100000
DTEND;TZID=America/New_York:20280203T130000
DTSTAMP:20260420T042525
CREATED:20240903T171949Z
LAST-MODIFIED:20240919T142605Z
UID:10004989-1833184800-1833195600@shorelegal.org
SUMMARY:Kent County Life & Estate Planning Clinic
DESCRIPTION:BY APPOINTMENT ONLY\nDo you need a will\, financial power of attorney\, or advance medical directive? Schedule your free consultation with our volunteer attorneys today by calling 410-690-8128. We’ll help you draft your life planning documents at no cost!
URL:https://shorelegal.org/event/kent-county-life-estate-planning-clinic-2/2028-02-03/
LOCATION:Kent County Public Library\, 408 High Street\, Chestertown\, 21620\, United States
CATEGORIES:Life Planning Clinics
END:VEVENT
BEGIN:VEVENT
DTSTART;TZID=America/New_York:20280302T100000
DTEND;TZID=America/New_York:20280302T130000
DTSTAMP:20260420T042525
CREATED:20240903T171949Z
LAST-MODIFIED:20240919T142605Z
UID:10004990-1835604000-1835614800@shorelegal.org
SUMMARY:Kent County Life & Estate Planning Clinic
DESCRIPTION:BY APPOINTMENT ONLY\nDo you need a will\, financial power of attorney\, or advance medical directive? Schedule your free consultation with our volunteer attorneys today by calling 410-690-8128. We’ll help you draft your life planning documents at no cost!
URL:https://shorelegal.org/event/kent-county-life-estate-planning-clinic-2/2028-03-02/
LOCATION:Kent County Public Library\, 408 High Street\, Chestertown\, 21620\, United States
CATEGORIES:Life Planning Clinics
END:VEVENT
BEGIN:VEVENT
DTSTART;TZID=America/New_York:20280406T100000
DTEND;TZID=America/New_York:20280406T130000
DTSTAMP:20260420T042525
CREATED:20240903T171949Z
LAST-MODIFIED:20240919T142605Z
UID:10004991-1838628000-1838638800@shorelegal.org
SUMMARY:Kent County Life & Estate Planning Clinic
DESCRIPTION:BY APPOINTMENT ONLY\nDo you need a will\, financial power of attorney\, or advance medical directive? Schedule your free consultation with our volunteer attorneys today by calling 410-690-8128. We’ll help you draft your life planning documents at no cost!
URL:https://shorelegal.org/event/kent-county-life-estate-planning-clinic-2/2028-04-06/
LOCATION:Kent County Public Library\, 408 High Street\, Chestertown\, 21620\, United States
CATEGORIES:Life Planning Clinics
END:VEVENT
BEGIN:VEVENT
DTSTART;TZID=America/New_York:20280504T100000
DTEND;TZID=America/New_York:20280504T130000
DTSTAMP:20260420T042525
CREATED:20240903T171949Z
LAST-MODIFIED:20240919T142605Z
UID:10004992-1841047200-1841058000@shorelegal.org
SUMMARY:Kent County Life & Estate Planning Clinic
DESCRIPTION:BY APPOINTMENT ONLY\nDo you need a will\, financial power of attorney\, or advance medical directive? Schedule your free consultation with our volunteer attorneys today by calling 410-690-8128. We’ll help you draft your life planning documents at no cost!
URL:https://shorelegal.org/event/kent-county-life-estate-planning-clinic-2/2028-05-04/
LOCATION:Kent County Public Library\, 408 High Street\, Chestertown\, 21620\, United States
CATEGORIES:Life Planning Clinics
END:VEVENT
BEGIN:VEVENT
DTSTART;TZID=America/New_York:20280601T100000
DTEND;TZID=America/New_York:20280601T130000
DTSTAMP:20260420T042525
CREATED:20240903T171949Z
LAST-MODIFIED:20240919T142605Z
UID:10004993-1843466400-1843477200@shorelegal.org
SUMMARY:Kent County Life & Estate Planning Clinic
DESCRIPTION:BY APPOINTMENT ONLY\nDo you need a will\, financial power of attorney\, or advance medical directive? Schedule your free consultation with our volunteer attorneys today by calling 410-690-8128. We’ll help you draft your life planning documents at no cost!
URL:https://shorelegal.org/event/kent-county-life-estate-planning-clinic-2/2028-06-01/
LOCATION:Kent County Public Library\, 408 High Street\, Chestertown\, 21620\, United States
CATEGORIES:Life Planning Clinics
END:VEVENT
BEGIN:VEVENT
DTSTART;TZID=America/New_York:20280706T100000
DTEND;TZID=America/New_York:20280706T130000
DTSTAMP:20260420T042525
CREATED:20240903T171949Z
LAST-MODIFIED:20240919T142605Z
UID:10004994-1846490400-1846501200@shorelegal.org
SUMMARY:Kent County Life & Estate Planning Clinic
DESCRIPTION:BY APPOINTMENT ONLY\nDo you need a will\, financial power of attorney\, or advance medical directive? Schedule your free consultation with our volunteer attorneys today by calling 410-690-8128. We’ll help you draft your life planning documents at no cost!
URL:https://shorelegal.org/event/kent-county-life-estate-planning-clinic-2/2028-07-06/
LOCATION:Kent County Public Library\, 408 High Street\, Chestertown\, 21620\, United States
CATEGORIES:Life Planning Clinics
END:VEVENT
BEGIN:VEVENT
DTSTART;TZID=America/New_York:20280803T100000
DTEND;TZID=America/New_York:20280803T130000
DTSTAMP:20260420T042525
CREATED:20240903T171949Z
LAST-MODIFIED:20240919T142605Z
UID:10004995-1848909600-1848920400@shorelegal.org
SUMMARY:Kent County Life & Estate Planning Clinic
DESCRIPTION:BY APPOINTMENT ONLY\nDo you need a will\, financial power of attorney\, or advance medical directive? Schedule your free consultation with our volunteer attorneys today by calling 410-690-8128. We’ll help you draft your life planning documents at no cost!
URL:https://shorelegal.org/event/kent-county-life-estate-planning-clinic-2/2028-08-03/
LOCATION:Kent County Public Library\, 408 High Street\, Chestertown\, 21620\, United States
CATEGORIES:Life Planning Clinics
END:VEVENT
BEGIN:VEVENT
DTSTART;TZID=America/New_York:20280907T100000
DTEND;TZID=America/New_York:20280907T130000
DTSTAMP:20260420T042525
CREATED:20240903T171949Z
LAST-MODIFIED:20240919T142605Z
UID:10004996-1851933600-1851944400@shorelegal.org
SUMMARY:Kent County Life & Estate Planning Clinic
DESCRIPTION:BY APPOINTMENT ONLY\nDo you need a will\, financial power of attorney\, or advance medical directive? Schedule your free consultation with our volunteer attorneys today by calling 410-690-8128. We’ll help you draft your life planning documents at no cost!
URL:https://shorelegal.org/event/kent-county-life-estate-planning-clinic-2/2028-09-07/
LOCATION:Kent County Public Library\, 408 High Street\, Chestertown\, 21620\, United States
CATEGORIES:Life Planning Clinics
END:VEVENT
BEGIN:VEVENT
DTSTART;TZID=America/New_York:20281005T100000
DTEND;TZID=America/New_York:20281005T130000
DTSTAMP:20260420T042525
CREATED:20240903T171949Z
LAST-MODIFIED:20240919T142605Z
UID:10004997-1854352800-1854363600@shorelegal.org
SUMMARY:Kent County Life & Estate Planning Clinic
DESCRIPTION:BY APPOINTMENT ONLY\nDo you need a will\, financial power of attorney\, or advance medical directive? Schedule your free consultation with our volunteer attorneys today by calling 410-690-8128. We’ll help you draft your life planning documents at no cost!
URL:https://shorelegal.org/event/kent-county-life-estate-planning-clinic-2/2028-10-05/
LOCATION:Kent County Public Library\, 408 High Street\, Chestertown\, 21620\, United States
CATEGORIES:Life Planning Clinics
END:VEVENT
BEGIN:VEVENT
DTSTART;TZID=America/New_York:20281102T100000
DTEND;TZID=America/New_York:20281102T130000
DTSTAMP:20260420T042525
CREATED:20240903T171949Z
LAST-MODIFIED:20240919T142605Z
UID:10004998-1856772000-1856782800@shorelegal.org
SUMMARY:Kent County Life & Estate Planning Clinic
DESCRIPTION:BY APPOINTMENT ONLY\nDo you need a will\, financial power of attorney\, or advance medical directive? Schedule your free consultation with our volunteer attorneys today by calling 410-690-8128. We’ll help you draft your life planning documents at no cost!
URL:https://shorelegal.org/event/kent-county-life-estate-planning-clinic-2/2028-11-02/
LOCATION:Kent County Public Library\, 408 High Street\, Chestertown\, 21620\, United States
CATEGORIES:Life Planning Clinics
END:VEVENT
BEGIN:VEVENT
DTSTART;TZID=America/New_York:20281207T100000
DTEND;TZID=America/New_York:20281207T130000
DTSTAMP:20260420T042525
CREATED:20240903T171949Z
LAST-MODIFIED:20240919T142605Z
UID:10004999-1859796000-1859806800@shorelegal.org
SUMMARY:Kent County Life & Estate Planning Clinic
DESCRIPTION:BY APPOINTMENT ONLY\nDo you need a will\, financial power of attorney\, or advance medical directive? Schedule your free consultation with our volunteer attorneys today by calling 410-690-8128. We’ll help you draft your life planning documents at no cost!
URL:https://shorelegal.org/event/kent-county-life-estate-planning-clinic-2/2028-12-07/
LOCATION:Kent County Public Library\, 408 High Street\, Chestertown\, 21620\, United States
CATEGORIES:Life Planning Clinics
END:VEVENT
BEGIN:VEVENT
DTSTART;TZID=America/New_York:20290104T100000
DTEND;TZID=America/New_York:20290104T130000
DTSTAMP:20260420T042525
CREATED:20240903T171949Z
LAST-MODIFIED:20240919T142605Z
UID:10005000-1862215200-1862226000@shorelegal.org
SUMMARY:Kent County Life & Estate Planning Clinic
DESCRIPTION:BY APPOINTMENT ONLY\nDo you need a will\, financial power of attorney\, or advance medical directive? Schedule your free consultation with our volunteer attorneys today by calling 410-690-8128. We’ll help you draft your life planning documents at no cost!
URL:https://shorelegal.org/event/kent-county-life-estate-planning-clinic-2/2029-01-04/
LOCATION:Kent County Public Library\, 408 High Street\, Chestertown\, 21620\, United States
CATEGORIES:Life Planning Clinics
END:VEVENT
BEGIN:VEVENT
DTSTART;TZID=America/New_York:20290201T100000
DTEND;TZID=America/New_York:20290201T130000
DTSTAMP:20260420T042525
CREATED:20240903T171949Z
LAST-MODIFIED:20240919T142605Z
UID:10005001-1864634400-1864645200@shorelegal.org
SUMMARY:Kent County Life & Estate Planning Clinic
DESCRIPTION:BY APPOINTMENT ONLY\nDo you need a will\, financial power of attorney\, or advance medical directive? Schedule your free consultation with our volunteer attorneys today by calling 410-690-8128. We’ll help you draft your life planning documents at no cost!
URL:https://shorelegal.org/event/kent-county-life-estate-planning-clinic-2/2029-02-01/
LOCATION:Kent County Public Library\, 408 High Street\, Chestertown\, 21620\, United States
CATEGORIES:Life Planning Clinics
END:VEVENT
BEGIN:VEVENT
DTSTART;TZID=America/New_York:20290301T100000
DTEND;TZID=America/New_York:20290301T130000
DTSTAMP:20260420T042525
CREATED:20240903T171949Z
LAST-MODIFIED:20240919T142605Z
UID:10005002-1867053600-1867064400@shorelegal.org
SUMMARY:Kent County Life & Estate Planning Clinic
DESCRIPTION:BY APPOINTMENT ONLY\nDo you need a will\, financial power of attorney\, or advance medical directive? Schedule your free consultation with our volunteer attorneys today by calling 410-690-8128. We’ll help you draft your life planning documents at no cost!
URL:https://shorelegal.org/event/kent-county-life-estate-planning-clinic-2/2029-03-01/
LOCATION:Kent County Public Library\, 408 High Street\, Chestertown\, 21620\, United States
CATEGORIES:Life Planning Clinics
END:VEVENT
BEGIN:VEVENT
DTSTART;TZID=America/New_York:20290405T100000
DTEND;TZID=America/New_York:20290405T130000
DTSTAMP:20260420T042525
CREATED:20240903T171949Z
LAST-MODIFIED:20240919T142605Z
UID:10005003-1870077600-1870088400@shorelegal.org
SUMMARY:Kent County Life & Estate Planning Clinic
DESCRIPTION:BY APPOINTMENT ONLY\nDo you need a will\, financial power of attorney\, or advance medical directive? Schedule your free consultation with our volunteer attorneys today by calling 410-690-8128. We’ll help you draft your life planning documents at no cost!
URL:https://shorelegal.org/event/kent-county-life-estate-planning-clinic-2/2029-04-05/
LOCATION:Kent County Public Library\, 408 High Street\, Chestertown\, 21620\, United States
CATEGORIES:Life Planning Clinics
END:VEVENT
BEGIN:VEVENT
DTSTART;TZID=America/New_York:20290503T100000
DTEND;TZID=America/New_York:20290503T130000
DTSTAMP:20260420T042525
CREATED:20240903T171949Z
LAST-MODIFIED:20240919T142605Z
UID:10005004-1872496800-1872507600@shorelegal.org
SUMMARY:Kent County Life & Estate Planning Clinic
DESCRIPTION:BY APPOINTMENT ONLY\nDo you need a will\, financial power of attorney\, or advance medical directive? Schedule your free consultation with our volunteer attorneys today by calling 410-690-8128. We’ll help you draft your life planning documents at no cost!
URL:https://shorelegal.org/event/kent-county-life-estate-planning-clinic-2/2029-05-03/
LOCATION:Kent County Public Library\, 408 High Street\, Chestertown\, 21620\, United States
CATEGORIES:Life Planning Clinics
END:VEVENT
BEGIN:VEVENT
DTSTART;TZID=America/New_York:20290607T100000
DTEND;TZID=America/New_York:20290607T130000
DTSTAMP:20260420T042525
CREATED:20240903T171949Z
LAST-MODIFIED:20240919T142605Z
UID:10005005-1875520800-1875531600@shorelegal.org
SUMMARY:Kent County Life & Estate Planning Clinic
DESCRIPTION:BY APPOINTMENT ONLY\nDo you need a will\, financial power of attorney\, or advance medical directive? Schedule your free consultation with our volunteer attorneys today by calling 410-690-8128. We’ll help you draft your life planning documents at no cost!
URL:https://shorelegal.org/event/kent-county-life-estate-planning-clinic-2/2029-06-07/
LOCATION:Kent County Public Library\, 408 High Street\, Chestertown\, 21620\, United States
CATEGORIES:Life Planning Clinics
END:VEVENT
BEGIN:VEVENT
DTSTART;TZID=America/New_York:20290705T100000
DTEND;TZID=America/New_York:20290705T130000
DTSTAMP:20260420T042525
CREATED:20240903T171949Z
LAST-MODIFIED:20240919T142605Z
UID:10005006-1877940000-1877950800@shorelegal.org
SUMMARY:Kent County Life & Estate Planning Clinic
DESCRIPTION:BY APPOINTMENT ONLY\nDo you need a will\, financial power of attorney\, or advance medical directive? Schedule your free consultation with our volunteer attorneys today by calling 410-690-8128. We’ll help you draft your life planning documents at no cost!
URL:https://shorelegal.org/event/kent-county-life-estate-planning-clinic-2/2029-07-05/
LOCATION:Kent County Public Library\, 408 High Street\, Chestertown\, 21620\, United States
CATEGORIES:Life Planning Clinics
END:VEVENT
BEGIN:VEVENT
DTSTART;TZID=America/New_York:20290802T100000
DTEND;TZID=America/New_York:20290802T130000
DTSTAMP:20260420T042525
CREATED:20240903T171949Z
LAST-MODIFIED:20240919T142605Z
UID:10005007-1880359200-1880370000@shorelegal.org
SUMMARY:Kent County Life & Estate Planning Clinic
DESCRIPTION:BY APPOINTMENT ONLY\nDo you need a will\, financial power of attorney\, or advance medical directive? Schedule your free consultation with our volunteer attorneys today by calling 410-690-8128. We’ll help you draft your life planning documents at no cost!
URL:https://shorelegal.org/event/kent-county-life-estate-planning-clinic-2/2029-08-02/
LOCATION:Kent County Public Library\, 408 High Street\, Chestertown\, 21620\, United States
CATEGORIES:Life Planning Clinics
END:VEVENT
BEGIN:VEVENT
DTSTART;TZID=America/New_York:20290906T100000
DTEND;TZID=America/New_York:20290906T130000
DTSTAMP:20260420T042525
CREATED:20240903T171949Z
LAST-MODIFIED:20240919T142605Z
UID:10005008-1883383200-1883394000@shorelegal.org
SUMMARY:Kent County Life & Estate Planning Clinic
DESCRIPTION:BY APPOINTMENT ONLY\nDo you need a will\, financial power of attorney\, or advance medical directive? Schedule your free consultation with our volunteer attorneys today by calling 410-690-8128. We’ll help you draft your life planning documents at no cost!
URL:https://shorelegal.org/event/kent-county-life-estate-planning-clinic-2/2029-09-06/
LOCATION:Kent County Public Library\, 408 High Street\, Chestertown\, 21620\, United States
CATEGORIES:Life Planning Clinics
END:VEVENT
END:VCALENDAR